
BEGIN:VCALENDAR
VERSION:2.0
PRODID:-//Memorial da Resistência - ECPv6.15.20//NONSGML v1.0//EN
CALSCALE:GREGORIAN
METHOD:PUBLISH
X-WR-CALNAME:Memorial da Resistência
X-ORIGINAL-URL:https://memorialdaresistenciasp.org.br
X-WR-CALDESC:Eventos para Memorial da Resistência
REFRESH-INTERVAL;VALUE=DURATION:PT1H
X-Robots-Tag:noindex
X-PUBLISHED-TTL:PT1H
BEGIN:VTIMEZONE
TZID:America/Sao_Paulo
BEGIN:STANDARD
TZOFFSETFROM:-0300
TZOFFSETTO:-0300
TZNAME:-03
DTSTART:20250101T000000
END:STANDARD
END:VTIMEZONE
BEGIN:VEVENT
DTSTART;TZID=America/Sao_Paulo:20260425T150000
DTEND;TZID=America/Sao_Paulo:20260425T170000
DTSTAMP:20260425T083701
CREATED:20260326T180609Z
LAST-MODIFIED:20260402T153016Z
UID:252396-1777129200-1777136400@memorialdaresistenciasp.org.br
SUMMARY:Sábado Resistente | Democracia\, economia e desigualdade social
DESCRIPTION:Foto: Karina Iliescu. \n\n\n\n\n\n\n\n\n 25 de abril \n\n\n\n 15 horas \n\n\n\n  Atividade gratuita \n\n\n\n  Auditório (5º Andar) \n\n\n\n\n\n\n\n\nEm parceria com o Núcleo de Preservação da Memória Política\, o Memorial promove edição do Sábado Resistente\, com o tema Democracia\, economia e desigualdade social\, que se propõe a uma reflexão sobre as relações entre desenvolvimento econômico\, redução de desigualdades e ampliação de direitos\, considerando aspectos de classe\, raça e território.  \n\n\n\n \n\n\n\nO encontro também abre espaço para o debate de caminhos que contribuam para o fortalecimento da participação cidadã e do interesse coletivo\, em diálogo com desafios estruturais da sociedade brasileira. 
URL:https://memorialdaresistenciasp.org.br/programacao/sabado-resistente-democracia-economia-e-desigualdade-social/
ATTACH;FMTTYPE=image/jpeg:https://memorialdaresistenciasp.org.br/wp-content/uploads/2026/03/FOTO-MENINO-BALEADO-1-1-1536x1025-1.jpeg
END:VEVENT
BEGIN:VEVENT
DTSTART;TZID=America/Sao_Paulo:20260425T150000
DTEND;TZID=America/Sao_Paulo:20260425T170000
DTSTAMP:20260425T083701
CREATED:20260327T182434Z
LAST-MODIFIED:20260401T212046Z
UID:252412-1777129200-1777136400@memorialdaresistenciasp.org.br
SUMMARY:Encerramento Ouvidor 63 | Corporalidades desobedientes
DESCRIPTION:Foto: Memorial da Resistência | Exposição Ouvidor 63 \n\n\n\n\n\n\n\n\n 25 de abril \n\n\n\n 15 horas \n\n\n\n  Atividade gratuita (Destinada a maiores de 18 anos) \n\n\n\n  Lugar de Encontro (3°andar) \n\n\n\n\n\n\n\n\nO Memorial realiza uma atividade de encerramento da exposição Ouvidor 63: habitar a arte realizada com as pessoas moradoras da Ocupação Ouvidor 63 e convidadas. A oficina funciona como um espaço de troca de saberes sobre corporalidades\, em um conversatório sobre o processo de pesquisa e produção da obra “Grotescologia” em comemoração dos 10anos do Manifesto Freak.
URL:https://memorialdaresistenciasp.org.br/programacao/corporalidades-desobedientes-intervencao-pedagogica-desde-o-manifesto-freak/
ATTACH;FMTTYPE=image/jpeg:https://memorialdaresistenciasp.org.br/wp-content/uploads/2026/03/Abertura-Exposicao-Ouvidor-63_Ft-Beto-Assem-56-scaled-1-edited.jpg
END:VEVENT
END:VCALENDAR