
BEGIN:VCALENDAR
VERSION:2.0
PRODID:-//Memorial da Resistência - ECPv6.15.20//NONSGML v1.0//EN
CALSCALE:GREGORIAN
METHOD:PUBLISH
X-ORIGINAL-URL:https://memorialdaresistenciasp.org.br
X-WR-CALDESC:Eventos para Memorial da Resistência
REFRESH-INTERVAL;VALUE=DURATION:PT1H
X-Robots-Tag:noindex
X-PUBLISHED-TTL:PT1H
BEGIN:VTIMEZONE
TZID:America/Sao_Paulo
BEGIN:STANDARD
TZOFFSETFROM:-0300
TZOFFSETTO:-0300
TZNAME:-03
DTSTART:20230101T000000
END:STANDARD
END:VTIMEZONE
BEGIN:VEVENT
DTSTART;TZID=America/Sao_Paulo:20240203T150000
DTEND;TZID=America/Sao_Paulo:20240203T170000
DTSTAMP:20260425T114554
CREATED:20240130T151819Z
LAST-MODIFIED:20240201T200947Z
UID:238499-1706972400-1706979600@memorialdaresistenciasp.org.br
SUMMARY:Roda de conversa: Imprensa Feminista
DESCRIPTION:Créditos: Centro Sérgio Buarque de Holanda\n\n\n\n\n  3 de fevereiro de 2024 \n\n\n\n   15 horas \n\n\n\n  Atividade gratuita \n\n\n\n Lugar de Encontro (3º andar) \n\n\n\n\n\n\n\n\nA partir de um encontro com mulheres integrantes de diferentes grupos feministas das décadas de 1970 e 1980\, a roda de conversa propõe o compartilhamento de memórias acerca da organização\, produção e publicação de jornais e veículos de imprensa alternativa feitos por mulheres durante e após os anos de Ditadura Civil-Militar (1964-1985).   \n\n\n\nPublicações como Brasil Mulher (1975-1980)\, Nós Mulheres (1976-1978) e Mulherio (1981-1989) trouxeram a público tópicos voltados à saúde\, segurança\, sexualidade e direitos femininos\, tornando-se importantes espaços de letramento político e conscientização de leitores em um período marcado por censuras e repressão.  \n\n\n\nA atividade é gratuita e não precisa de inscrição. 
URL:https://memorialdaresistenciasp.org.br/programacao/roda-de-conversa-imprensa-feminista/
ATTACH;FMTTYPE=image/png:https://memorialdaresistenciasp.org.br/wp-content/uploads/2024/01/Roda-de-conversa-imprensa-feminista-1.png
END:VEVENT
BEGIN:VEVENT
DTSTART;TZID=America/Sao_Paulo:20240224T150000
DTEND;TZID=America/Sao_Paulo:20240224T170000
DTSTAMP:20260425T114554
CREATED:20240201T135035Z
LAST-MODIFIED:20240207T201020Z
UID:238534-1708786800-1708794000@memorialdaresistenciasp.org.br
SUMMARY:Lançamento de livro: Ilícito absoluto: a família Almeida Teles\, o coronel Brilhante Ustra e a tortura
DESCRIPTION:  24 de fevereiro de 2024 \n\n\n\n  15 horas  \n\n\n\n  Atividade gratuita \n\n\n\n  Lugar de Encontro (3º andar) \n\n\n\n\nO Memorial da Resistência recebe\, com a presença do autor Pádua Fernandes\, o lançamento do livro Ilícito absoluto: a família Almeida Teles\, o coronel Brilhante Ustra e a tortura (Editora Patuá).   \n\n\n\nO livro dedica-se a contar a história do reconhecimento oficial do coronel Brilhante Ustra\, falecido em 2015\, como torturador da Ditadura Civil-Militar\, tendo entre suas vítimas membros da família Almeida Teles. Trata-se até então do único caso em que o Judiciário brasileiro decidiu dessa forma. \n\n\n\nEstarão presentes no lançamento a família Almeida Teles (Criméia de Almeida\, Maria Amélia\, Janaína e Edson Teles)\, Adriano Diogo (Comissão da Verdade do Estado de São Paulo) e Márcio Seligmann-Silva (Unicamp). \n\n\n\nA atividade é gratuita e não precisa de inscrição. 
URL:https://memorialdaresistenciasp.org.br/programacao/lancamento-de-livro/
ATTACH;FMTTYPE=image/jpeg:https://memorialdaresistenciasp.org.br/wp-content/uploads/2024/02/51GrKhlh2pL._AC_UL330_SR330330_-2.jpg
END:VEVENT
BEGIN:VEVENT
DTSTART;TZID=America/Sao_Paulo:20240224T150000
DTEND;TZID=America/Sao_Paulo:20240224T170000
DTSTAMP:20260425T114554
CREATED:20240201T135848Z
LAST-MODIFIED:20240216T163552Z
UID:238540-1708786800-1708794000@memorialdaresistenciasp.org.br
SUMMARY:Tarde de Memórias
DESCRIPTION:  24 de fevereiro de 2024 \n\n\n\n  15 horas  \n\n\n\n  Atividade gratuita \n\n\n\n Espaço expositivo (3º andar) \n\n\n\n\n\n\n\n\nAs Tardes de Memórias propõem\, a cada encontro\, jogos lúdico-pedagógicos junto aos visitantes para explorar\, de forma lúdica e descontraída\, temas centrais do Memorial. Nesta edição\, o Núcleo de Ação Educativa do Memorial promove a oficina Memórias estampadas: transferência de imagens em tecido\, quando serão utilizadas imagens da exposição temporária Mulheres em Luta! Arquivos de Memória Política composta por acervo documental diverso\, com fotografias\, ilustrações\, panfletos\, cartas etc.    \n\n\n\nAo final da proposta\, cada participante poderá levar consigo sua produção como lembrança da visita.  
URL:https://memorialdaresistenciasp.org.br/programacao/tarde-de-memorias-10/
ATTACH;FMTTYPE=image/jpeg:https://memorialdaresistenciasp.org.br/wp-content/uploads/2024/02/Image-1-e1706805614617.jpg
END:VEVENT
BEGIN:VEVENT
DTSTART;TZID=America/Sao_Paulo:20240225T120000
DTEND;TZID=America/Sao_Paulo:20240225T173000
DTSTAMP:20260425T114554
CREATED:20240220T180312Z
LAST-MODIFIED:20240222T174726Z
UID:238638-1708862400-1708882200@memorialdaresistenciasp.org.br
SUMMARY:O que o HIV tem a ver com você? 
DESCRIPTION: 25 de fevereiro de 2024 \n\n\n\n 12 horas \n\n\n\n Atividade Gratuita \n\n\n\n  Auditório (5º andar)  \n\n\n\n\n\n\n\n\nUma videorreportagem e uma Revista para promover a educação sobre IST’s serão lançados pela Agência pra Brilhar nesse domingo\, no auditório do Memorial. \n\n\n\nO projeto é da Coordenadoria de IST/aids da cidade de São Paulo em parceria com a Viração Educomunicação que acontece desde 2017 e nesses últimos dois anos\, prevê uma agência educomunicativa composto por 4 jovens LGBTQIAPN+ e racializades da cidade de São Paulo\, com o objetivo de promover respostas para os estigmas relacionados ao HIV.
URL:https://memorialdaresistenciasp.org.br/programacao/o-que-o-hiv-tem-a-ver-com-voce/
ATTACH;FMTTYPE=image/png:https://memorialdaresistenciasp.org.br/wp-content/uploads/2024/02/Post_PraBrilhar_Mostra2023-2024_Feed-1-e1708452095667.png
END:VEVENT
END:VCALENDAR