
BEGIN:VCALENDAR
VERSION:2.0
PRODID:-//Memorial da Resistência - ECPv6.15.20//NONSGML v1.0//EN
CALSCALE:GREGORIAN
METHOD:PUBLISH
X-ORIGINAL-URL:https://memorialdaresistenciasp.org.br
X-WR-CALDESC:Eventos para Memorial da Resistência
REFRESH-INTERVAL;VALUE=DURATION:PT1H
X-Robots-Tag:noindex
X-PUBLISHED-TTL:PT1H
BEGIN:VTIMEZONE
TZID:America/Sao_Paulo
BEGIN:STANDARD
TZOFFSETFROM:-0300
TZOFFSETTO:-0300
TZNAME:-03
DTSTART:20230101T000000
END:STANDARD
END:VTIMEZONE
BEGIN:VEVENT
DTSTART;TZID=America/Sao_Paulo:20240302T150000
DTEND;TZID=America/Sao_Paulo:20240302T170000
DTSTAMP:20260425T100658
CREATED:20240222T165739Z
LAST-MODIFIED:20240229T184911Z
UID:238684-1709391600-1709398800@memorialdaresistenciasp.org.br
SUMMARY:Roda de conversa: Mulheres na Ditadura Civil-Militar
DESCRIPTION:  2 de março \n\n\n\n  15 horas \n\n\n\n  Atividade gratuita \n\n\n\n  Lugar de encontro (3º andar) \n\n\n\n\n\n\n\n\nPresentes nas lutas operárias\, participando de movimentos sociais e estudantis\, mobilizando-se em clubes e associações feministas\, na guerrilha ou atuando na busca incansável por seus parceiros e familiares\, mulheres romperam com as imposições de gênero enquanto lutaram contra o autoritarismo da Ditadura.  \n\n\n\nNesta roda de conversa\, mulheres que viveram o período pretendem compartilhar suas memórias de resistência\, os desafios enfrentados na época para a construção da democracia brasileira e a importância do feminismo na conquista de direitos fundamentais. \n\n\n\n \n\n\n\nA atividade é gratuita e não haverá inscrição.
URL:https://memorialdaresistenciasp.org.br/programacao/roda-de-conversa-mulheres-na-ditadura-civil-militar/
ATTACH;FMTTYPE=image/jpeg:https://memorialdaresistenciasp.org.br/wp-content/uploads/2024/02/BR_SP_APESP_MOV_ICO_AMP_021_093-edited-1-e1708620248585.jpg
END:VEVENT
BEGIN:VEVENT
DTSTART;TZID=America/Sao_Paulo:20240308T123000
DTEND;TZID=America/Sao_Paulo:20240308T133000
DTSTAMP:20260425T100658
CREATED:20240222T174543Z
LAST-MODIFIED:20240301T135647Z
UID:238692-1709901000-1709904600@memorialdaresistenciasp.org.br
SUMMARY:Cine Resistência: Não quero ser a próxima
DESCRIPTION:  8 de março \n\n\n\n  12h30 \n\n\n\n  Atividade gratuita \n\n\n\n  Auditório (5º andar) \n\n\n\n\n\n\n\n\nNo Dia Internacional das Mulheres\, o Memorial da Resistência exibe  o documentário Não quero ser a próxima (1985)\, de Nair Benedicto\, no Cine Resistência. \n\n\n\nDesenvolvido em 1985 junto a Cecília Simonetti\, Laís Tapajós\, Sylvia Cavasin e Vera Simonetti\, o trabalho de Nair Benedicto (São Paulo\, 1940). Após o crime cometido pelo cantor Lindomar Castilho\, que assassinou sua ex-mulher\, a também cantora\, Eliane de Grammont (1955-1981)\, Nair aponta que este não é um caso isolado e mostra como a violência doméstica e o feminicídio são tão presentes no Brasil. \n\n\n\nA atividade é gratuita e não precisa de inscrição.
URL:https://memorialdaresistenciasp.org.br/programacao/cine-resistencia-nao-quero-ser-a-proxima/
ATTACH;FMTTYPE=image/jpeg:https://memorialdaresistenciasp.org.br/wp-content/uploads/2024/02/dgdsfhd-1024x486-1-e1708623910281.jpg
END:VEVENT
BEGIN:VEVENT
DTSTART;TZID=America/Sao_Paulo:20240309T110000
DTEND;TZID=America/Sao_Paulo:20240309T170000
DTSTAMP:20260425T100658
CREATED:20240301T134755Z
LAST-MODIFIED:20240301T200050Z
UID:238774-1709982000-1710003600@memorialdaresistenciasp.org.br
SUMMARY:Abertura Resistências da PUC-SP
DESCRIPTION:  9 de março \n\n\n\n  11 horas \n\n\n\n  Atividade gratuita \n\n\n\n  Ocupações Memorial (Terreo) \n\n\n\n\n\n\n\n\nA exposição Ocupações Memorial: Resistências na PUC-SP lança um olhar sobre a história de resistência na universidade\, que se tornou um importante espaço de luta em defesa da democracia durante o período. A exposição integra o projeto Ocupações Memorial\, que articula diálogos transdisciplinares sobre a memória dos períodos autoritários no país e suas reverberações no presente.
URL:https://memorialdaresistenciasp.org.br/programacao/abertura-resistencias-da-puc-sp/
ATTACH;FMTTYPE=image/png:https://memorialdaresistenciasp.org.br/wp-content/uploads/2024/03/Convite_Horizontal-1024x577-1-e1709300831586.png
END:VEVENT
BEGIN:VEVENT
DTSTART;TZID=America/Sao_Paulo:20240323T140000
DTEND;TZID=America/Sao_Paulo:20240323T170000
DTSTAMP:20260425T100658
CREATED:20240301T163246Z
LAST-MODIFIED:20240318T175413Z
UID:238787-1711202400-1711213200@memorialdaresistenciasp.org.br
SUMMARY:Sábado Resistente: Os antecedentes e desdobramentos do Golpe Civil-Militar de 1964
DESCRIPTION:Repressão aos estudantes reunidos no dia 06/05/1977 no Largo São Francisco para pedir a libertação de presos políticos\, o fim das torturas e perseguições política\, anistia e liberdades democráticas. Crédito: Acervo Iconographia\n\n\n\n\n\n\n  23 de março \n\n\n\n  14 horas \n\n\n\n  Atividade gratuita \n\n\n\n  Auditório (5º andar) \n\n\n\n\n\n\n\n\nO primeiro encontro do ano será realizado no dia 23 de março\, às 14h\, e tem como tema Os antecedentes e desdobramentos do Golpe Civil-Militar de 1964\, com o convidado Prof. Dr. Marcos Napolitano. A atividade apresentará trechos editados do filme 1964: um golpe contra o Brasil (Dir. Alípio Freire\, Núcleo Memória\, 2013).  \n\n\n\nO tema gerador\, que marca os 60 anos do golpe militar\, será A longa duração do Golpe de 1964.  A cada encontro será enfatizado um aspecto relacionado com o golpe militar e os impactos do regime autoritário na contemporaneidade\, nos mais diversos setores da sociedade como educação\, economia\, segurança pública\, política e cultura. \n\n\n\nA atividade é gratuita e não precisa de inscrição. \n\n\n\n \n\n\n\n\nRESERVE SEU INGRESSO
URL:https://memorialdaresistenciasp.org.br/programacao/sabado-resistente-4/
ATTACH;FMTTYPE=image/jpeg:https://memorialdaresistenciasp.org.br/wp-content/uploads/2024/03/3.-Lgo-S.-Francisco-durante-manifestacao-de-estudantes-15.6.1977-Acervo-Iconographia-e1677508015599-1024x895-1-e1709310823677.jpg
END:VEVENT
END:VCALENDAR