
BEGIN:VCALENDAR
VERSION:2.0
PRODID:-//Memorial da Resistência - ECPv6.15.20//NONSGML v1.0//EN
CALSCALE:GREGORIAN
METHOD:PUBLISH
X-ORIGINAL-URL:https://memorialdaresistenciasp.org.br
X-WR-CALDESC:Eventos para Memorial da Resistência
REFRESH-INTERVAL;VALUE=DURATION:PT1H
X-Robots-Tag:noindex
X-PUBLISHED-TTL:PT1H
BEGIN:VTIMEZONE
TZID:America/Sao_Paulo
BEGIN:STANDARD
TZOFFSETFROM:-0300
TZOFFSETTO:-0300
TZNAME:-03
DTSTART:20230101T000000
END:STANDARD
END:VTIMEZONE
BEGIN:VEVENT
DTSTART;TZID=America/Sao_Paulo:20240401T150000
DTEND;TZID=America/Sao_Paulo:20240401T160000
DTSTAMP:20260425T084109
CREATED:20240401T140538Z
LAST-MODIFIED:20240401T165933Z
UID:238949-1711983600-1711987200@memorialdaresistenciasp.org.br
SUMMARY:60 ANOS PÓS GOLPE MILITAR-Reflexão sobre o Brasil\, democracia e Direitos Humanos
DESCRIPTION:  1 de abril \n\n\n\n  15 horas \n\n\n\n  Atividade gratuita \n\n\n\n  Auditório (5º andar) \n\n\n\n\n\n\n\n\nO Memorial da Resistência recebe o encontro 60 ANOS PÓS GOLPE-MILITAR: Reflexão sobre o Brasil\, democracia e Direitos Humanos. Curadoria e mediação de Shellah Avellar\, jornalista\, escritora e expert em Gestão de Processos Comunicacionais.  \n\n\n\n A mesa de debate buscará realizar uma discussão sobre os caminhos e os desafios rumo à uma verdadeira justiça de transição\, além de tratar da urgência da reativação da Comissão de Mortos e Desaparecidos Políticos\, e da reparação psíquica dos afetados pela Ditadura de 1964. 
URL:https://memorialdaresistenciasp.org.br/programacao/60-anos-pos-golpe-militar-reflexao-sobre-o-brasil-democracia-e-direitos-humanos/
ATTACH;FMTTYPE=image/jpeg:https://memorialdaresistenciasp.org.br/wp-content/uploads/2024/04/APESP_01-1024x771-1-e1711980320154.jpg
END:VEVENT
BEGIN:VEVENT
DTSTART;TZID=America/Sao_Paulo:20240406T100000
DTEND;TZID=America/Sao_Paulo:20240406T143000
DTSTAMP:20260425T084109
CREATED:20240401T141202Z
LAST-MODIFIED:20240401T171143Z
UID:238955-1712397600-1712413800@memorialdaresistenciasp.org.br
SUMMARY:Lembrar é Resistir: lugares de memória e ditadura - Visita mediada “A memória preservada nas celas do Deops/SP”
DESCRIPTION:  6 de abril \n\n\n\n  10h e 14h30 \n\n\n\n  Atividade gratuita \n\n\n\n  Espaço expositivo (térreo) \n\n\n\n\n\n\n\n\nSerão realizadas visitas mediada às antigas celas do Departamento Estadual de Ordem Política e Social (Deops/SP)\, exposição permanente do museu\, como parte da programação Lembrar é Resistir: Lugares de memória e Ditadura. Na programação\, lugares de memória farão diferentes atividades simultâneas vinculadas às memórias da Ditadura Civil-Militar (1964-1985). \n\n\n\n\n\n\n\n\nINSCREVA-SE
URL:https://memorialdaresistenciasp.org.br/programacao/lembrar-e-resistir-lugares-de-memoria-e-ditadura-visita-mediada-a-memoria-preservada-nas-celas-do-deops-sp/
ATTACH;FMTTYPE=image/jpeg:https://memorialdaresistenciasp.org.br/wp-content/uploads/2024/04/Memorial-da-Resistencia_Exposicao-de-Longa-duracao_Foto-Levi-Fanan-3-1024x683-1.jpg
END:VEVENT
BEGIN:VEVENT
DTSTART;TZID=America/Sao_Paulo:20240406T140000
DTEND;TZID=America/Sao_Paulo:20240406T160000
DTSTAMP:20260425T084109
CREATED:20240401T141918Z
LAST-MODIFIED:20240401T170446Z
UID:238959-1712412000-1712419200@memorialdaresistenciasp.org.br
SUMMARY:Sábado Resistente com visita à nova exposição da Estação Pinacoteca - SOL FULGURANTE: Arquivos de vida e resistência 
DESCRIPTION:  6 de abril \n\n\n\n  14 horas \n\n\n\n  Atividade gratuita \n\n\n\n  Auditório (5º andar) \n\n\n\n\n\n\n\n\nO encontro parte da exposição “Sol Fulgurante: arquivos de vida e resistência”\, em cartaz a partir do dia 06 de abril na Pinacoteca Estação\, a fim de discutir os atravessamentos entre os acervos dessa instituição e do Memorial da Resistência. A exposição apresenta Coleção Alípio Freire\, doado ao Memorial da Resistência por Rita Sipahí. \n\n\n\nA coleção é formada por trabalhos realizados por presos políticos durante os anos 1960 e 1970 nos presídios do Estado de São Paulo. As obras ainda dialogarão com o arquivo do projeto “Mulheres Possíveis- corpo\, gênero e encarceramento” desenvolvido por artistas em colaboração com mulheres em situação de cárcere na Penitenciaria Feminina da capital\, e com itens do Acervo Bajubá. \n\n\n\nA atividade é gratuita e não precisa de inscrição.
URL:https://memorialdaresistenciasp.org.br/programacao/sabado-resistente-com-visita-a-nova-exposicao-da-estacao-pinacoteca-sol-fulgurante-arquivos-de-vida-e-resistencia/
ATTACH;FMTTYPE=image/jpeg:https://memorialdaresistenciasp.org.br/wp-content/uploads/2024/04/226_frente_REP_IM_FEV2024-1024x643-1-e1711981141956.jpg
END:VEVENT
BEGIN:VEVENT
DTSTART;TZID=America/Sao_Paulo:20240413T100000
DTEND;TZID=America/Sao_Paulo:20240413T120000
DTSTAMP:20260425T084109
CREATED:20240401T143921Z
LAST-MODIFIED:20240412T160507Z
UID:238965-1713002400-1713009600@memorialdaresistenciasp.org.br
SUMMARY:Curso Instituto Bixiga - ANATOMIA DO GOLPE (ADIADO)
DESCRIPTION:Manifestação dos trabalhadores da Nitro Química em 1986. Crédito: Mirian Fichtner. Arquivo Público do Estado de São Paulo. \n\n\n\n\n\n\n\n\n  13 de abril \n\n\n\n  10 horas \n\n\n\n  Atividade gratuita \n\n\n\n  Auditório (5º andar) \n\n\n\n\n\n\n\n\nDesenvolvido pelo Instituto Bixiga\, o encontro busca expor e discutir criticamente a plataforma social\, econômica e cultural e as principais “reformas” antipopulares impostas ao longo do período da Ditadura Militar no Brasil\, assim como debater as formas de lutas e resistências empreendidas pela classe trabalhadora contra esse processo. \n\n\n\n\n\n\n\n\nINSCREVA-SE
URL:https://memorialdaresistenciasp.org.br/programacao/curso-instituto-bixiga-anatomia-do-golpe/
ATTACH;FMTTYPE=image/jpeg:https://memorialdaresistenciasp.org.br/wp-content/uploads/2024/04/Capa-nitro-quimica.jpg
END:VEVENT
BEGIN:VEVENT
DTSTART;TZID=America/Sao_Paulo:20240413T100000
DTEND;TZID=America/Sao_Paulo:20240420T100000
DTSTAMP:20260425T084109
CREATED:20240401T163037Z
LAST-MODIFIED:20240401T164024Z
UID:238972-1713002400-1713607200@memorialdaresistenciasp.org.br
SUMMARY:Minicurso com Educadores: Encontro com o Grupo Contrafilé  
DESCRIPTION:Ilustração: João Galera\n\n\n\n\n\n\n\n\n  13 e 10 de abril \n\n\n\n  10 horas \n\n\n\n  Atividade gratuita \n\n\n\n Espaço expositivo (3º andar) e online  \n\n\n\n\n\n\n\n\nO Minicurso com Educadores promovido pelo Núcleo Educativo do Memorial tem como objetivo apresentar ao público uma introdução à Educação em Direitos Humanos. No primeiro encontro\, o Grupo Contrafilé propõe uma aula-performance para refletir sobre a compreensão e abordagem de temas e situações complexos e conflitivos de nossa história social e política e\, como resultado\, pensar em estratégias artístico-educativas para o trabalho com testemunhos.  \n\n\n\nNa segunda etapa\, os educadores do museu realizam um encontro online para tratar dos testemunhos do acervo da instituição a partir da reflexão da aula-performance anterior.  \n\n\n\n\n\n\n\n\nINSCREVA-SE
URL:https://memorialdaresistenciasp.org.br/programacao/minicurso-com-educadores-encontro-com-o-grupo-contrafile/
ATTACH;FMTTYPE=image/jpeg:https://memorialdaresistenciasp.org.br/wp-content/uploads/2024/04/GT-TERRITORIOS-Moradia-1024x758-1-e1711989029993.jpg
END:VEVENT
BEGIN:VEVENT
DTSTART;TZID=America/Sao_Paulo:20240413T140000
DTEND;TZID=America/Sao_Paulo:20240413T160000
DTSTAMP:20260425T084109
CREATED:20240401T163846Z
LAST-MODIFIED:20240403T191225Z
UID:238978-1713016800-1713024000@memorialdaresistenciasp.org.br
SUMMARY:Ativação da Escola de Testemunhos com convidada 
DESCRIPTION:Obra “Escola de Testemunhos” (2019)\, do Grupo Contrafilé\, na exposição “Meta-arquivo: 1964-1985”. Foto: Julio Kohl / Sesc São Paulo\n\n\n\n\n\n\n\n\n  13 de abril \n\n\n\n  14 horas \n\n\n\n  Atividade gratuita \n\n\n\n  Espaço expositivo (3º andar) \n\n\n\n\n\n\n\n\nComo parte da programação paralela da exposição Mulheres em luta! Arquivos de memória política\, o coletivo de artistas Grupo Contrafilé realiza no espaço expositivo uma ativação do dispositivo artístico-educativo Escola de Testemunhos. O encontro conta com o testemunho de uma mulher de luta\, e convida os participantes a tomar notas em placas de lousa\, participando assim de um registro coletivo das potências ensinadoras das aulas. \n\n\n\nA atividade é gratuita e não precisa de inscrição.
URL:https://memorialdaresistenciasp.org.br/programacao/ativacao-da-escola-de-testemunhos-com-convidada/
ATTACH;FMTTYPE=image/jpeg:https://memorialdaresistenciasp.org.br/wp-content/uploads/2024/04/0020_reduzida-1024x639-1-e1711989510571.jpg
END:VEVENT
BEGIN:VEVENT
DTSTART;TZID=America/Sao_Paulo:20240413T160000
DTEND;TZID=America/Sao_Paulo:20240413T170000
DTSTAMP:20260425T084109
CREATED:20240401T162205Z
LAST-MODIFIED:20240401T170827Z
UID:238968-1713024000-1713027600@memorialdaresistenciasp.org.br
SUMMARY:Sarau da Resistência: Núcleo Macabéa 
DESCRIPTION:Manifestação contra a ditadura na Tribuna Livre do Largo São Francisco\, um palanque para discursos públicos construído na década de 1930. Crédito: Arquivo Público do Estado de São Paulo\n\n\n\n\n\n\n\n\n  13 de abril \n\n\n\n  16 horas \n\n\n\n  Atividade gratuita \n\n\n\n  Espaço expositivo (térreo)  \n\n\n\n\n\n\n\n\nAtores e músicos da Núcleo Macabéa apresentam no espaço do Memorial da Resistência\, no antigo espaço carcerário do Deops/SP\, o Sarau da Resistência. Com música e leitura de poemas\, serão homenageadas pessoas que resistiram ao período e que marcaram a luta em favor da democracia brasileira.  \n\n\n\nA atividade é gratuita e não precisa de inscrição.
URL:https://memorialdaresistenciasp.org.br/programacao/sarau-da-resistencia-nucleo-macabea/
ATTACH;FMTTYPE=image/jpeg:https://memorialdaresistenciasp.org.br/wp-content/uploads/2024/04/DEOPS.-50-Z-0862233_baixa-e1711988494596.jpg
END:VEVENT
BEGIN:VEVENT
DTSTART;TZID=America/Sao_Paulo:20240420T150000
DTEND;TZID=America/Sao_Paulo:20240420T170000
DTSTAMP:20260425T084109
CREATED:20240403T190743Z
LAST-MODIFIED:20240403T190929Z
UID:239076-1713625200-1713632400@memorialdaresistenciasp.org.br
SUMMARY:Roda de conversa: A Violência Contra as Mulheres no Legislativo 
DESCRIPTION:  20 de abril \n\n\n\n  15 horas \n\n\n\n  Atividade gratuita \n\n\n\n  Lugar de Encontro (3º andar) \n\n\n\n\n\n\n\n\nCom a participação de militantes que vivenciaram o período da Ditadura Civil-Militar (1964-1985) nos anos 1970 e 1980\, a roda de conversa vai abordar as múltiplas lutas das mulheres na política\, abrangendo sua participação vital no legislativo e no processo da última Constituinte brasileira\, nos anos 1980\, fundamental para a redemocratização brasileira. Serão discutidas as barreiras enfrentadas\, desde o desafio de ingressar nesses espaços predominantemente masculinos até as violências específicas sofridas.  O encontro é parte da programação paralela da exposição Mulheres em Luta! Arquivos de memória política. 
URL:https://memorialdaresistenciasp.org.br/programacao/roda-de-conversa-a-violencia-contra-as-mulheres-no-legislativo-2/
ATTACH;FMTTYPE=image/jpeg:https://memorialdaresistenciasp.org.br/wp-content/uploads/2024/04/OBRAS_UM32_157x98_5mm-Sangria_Adesivo-Corte-Reto-1024x642-1-e1712171234866.jpg
END:VEVENT
BEGIN:VEVENT
DTSTART;TZID=America/Sao_Paulo:20240424T100000
DTEND;TZID=America/Sao_Paulo:20240424T170000
DTSTAMP:20260425T084109
CREATED:20240401T164330Z
LAST-MODIFIED:20240401T170851Z
UID:238984-1713952800-1713978000@memorialdaresistenciasp.org.br
SUMMARY:Colóquio Internacional da PUC-SP: Direitos Humanos\, Censura e Resistência na Literatura - Diálogos sobre Ditaduras Passadas e Presentes 
DESCRIPTION:Créditos: Arquivo Nacional\n\n\n\n\n  24 de abril \n\n\n\n  10 horas \n\n\n\n  Atividade gratuita \n\n\n\n  Auditório (5º andar) \n\n\n\n\n \n\n\n\nComo parte da programação pública vinculada à exposição Ocupações Memorial: Resistências na PUC-SP\, em cartaz no Memorial da Resistência\, a proposta do Colóquio Internacional sobre Direitos Humanos\, Censura e Resistência na Literatura tem como objetivo discutir sobre o papel da literatura frente às situações de censura e opressão\, tanto nos momentos históricos do passado quanto da atualidade. \n\n\n\nO evento ainda celebra os 50 anos da Revolução dos Cravos\, movimento que aconteceu em Portugal\, no dia 25 de abril de 1974\, pondo fim a longa ditadura liderada por Antônio Salazar. Através desses diálogos\, o colóquio busca ampliar o conhecimento sobre o papel da literatura como agente de resistência e defesa dos direitos fundamentais\, em consonância com os desafios enfrentados nos tempos atuais. \n\n\n\nA participação é gratuita e não precisa de inscrição.
URL:https://memorialdaresistenciasp.org.br/programacao/coloquio-internacional-da-puc-sp-direitos-humanos-censura-e-resistencia-na-literatura-dialogos-sobre-ditaduras-passadas-e-presentes/
ATTACH;FMTTYPE=image/png:https://memorialdaresistenciasp.org.br/wp-content/uploads/2024/03/ocupacoes-memorial-resistencias-na-puc.png
END:VEVENT
BEGIN:VEVENT
DTSTART;TZID=America/Sao_Paulo:20240426T140000
DTEND;TZID=America/Sao_Paulo:20240426T170000
DTSTAMP:20260425T084109
CREATED:20240401T164942Z
LAST-MODIFIED:20240401T171004Z
UID:238998-1714140000-1714150800@memorialdaresistenciasp.org.br
SUMMARY:Resistência no cárcere: roda de conversa com MC KRIC CRUZ
DESCRIPTION:Créditos: Arquivo Nacional\n\n\n\n\n  26 de abril \n\n\n\n  14 horas \n\n\n\n  Atividade gratuita \n\n\n\n  Lugar de Encontro (3º andar) \n\n\n\n\n \n\n\n\nA roda de conversa apresenta Cláudio Cruz\, conhecido no universo artístico por MC Kric. \n\n\n\nKric é egresso do sistema carcerário e foi mantido na condição de preso comum durante parte do período da Ditadura. Obteve assim\, passagem por diversos locais de encarceramento em São Paulo\, incluindo o Deops/SP\, convivendo\, neste contexto\, com presos políticos e agentes da repressão. Na roda de conversa\, Kric abordará com o público sua história de vida a fim de refletir sobre direitos humanos no sistema penal e carcerário brasileiro. \n\n\n\nA participação é gratuita e não precisa de inscrição.
URL:https://memorialdaresistenciasp.org.br/programacao/resistencia-no-carcere-roda-de-conversa-com-mc-kric-cruz/
ATTACH;FMTTYPE=image/jpeg:https://memorialdaresistenciasp.org.br/wp-content/uploads/2024/04/Image-3.jpg
END:VEVENT
BEGIN:VEVENT
DTSTART;TZID=America/Sao_Paulo:20240427T103000
DTEND;TZID=America/Sao_Paulo:20240427T120000
DTSTAMP:20260425T084109
CREATED:20240401T165631Z
LAST-MODIFIED:20240403T202639Z
UID:239008-1714213800-1714219200@memorialdaresistenciasp.org.br
SUMMARY:Ditadura militar: passado e presente 
DESCRIPTION:  27 de abril \n\n\n\n  10h30 \n\n\n\n  Atividade gratuita \n\n\n\n  Auditório (5º andar) \n\n\n\n\n \n\n\n\nComo parte da programação pública vinculada à exposição Ocupações Memorial: Resistências na PUC-SP\, em cartaz no Memorial\, o encontro abordará a atuação da Comissão da Verdade “Reitora Nadir Gouvêa Kfouri”\, criada na Pontifícia Universidade Católica de São Paulo em 2013\, e o papel de alguns participantes no processo que conduziu ao golpe civil-militar em 1964\, destacando especialmente a imprensa\, a opinião pública e os militares. \n\n\n\nA participação é gratuita e não precisa de inscrição.
URL:https://memorialdaresistenciasp.org.br/programacao/resistencias-na-puc-sp-a-comissao-da-verdade-reitora-nadir-gouvea-kfouri/
ATTACH;FMTTYPE=image/jpeg:https://memorialdaresistenciasp.org.br/wp-content/uploads/2024/04/IMAGEM-10-scaled.jpg
END:VEVENT
BEGIN:VEVENT
DTSTART;TZID=America/Sao_Paulo:20240427T150000
DTEND;TZID=America/Sao_Paulo:20240427T170000
DTSTAMP:20260425T084109
CREATED:20240401T165521Z
LAST-MODIFIED:20240417T131320Z
UID:239009-1714230000-1714237200@memorialdaresistenciasp.org.br
SUMMARY:Aula aberta: Promotoras Legais Populares de São Paulo visitam a exposição Mulheres em Luta!  
DESCRIPTION:  27 de abril \n\n\n\n  15 horas \n\n\n\n  Atividade gratuita \n\n\n\n  Auditório (5º andar) \n\n\n\n\n\n\n\n\nO Memorial da Resistência recebe visita das integrantes da 28° Turma de Promotoras Legais Populares\, em aula aberta para o público. O projeto das Promotoras Legais Populares\, presente na exposição Mulheres em luta! Arquivos de memória política\, consiste em um curso de formação de mulheres para a ampliação e fortalecimento do conhecimento de seus direitos.  \n\n\n\nSerão apresentados os recortes temáticos e conteúdos presentes na exposição seguido de uma visita ao espaço expositivo.  
URL:https://memorialdaresistenciasp.org.br/programacao/aula-aberta-promotoras-legais-populares-visitam-a-exposicao-mulheres-em-luta/
ATTACH;FMTTYPE=image/jpeg:https://memorialdaresistenciasp.org.br/wp-content/uploads/2024/04/OBRAS_NB32_A_NB38_10x13cm_Sangria.pdf_P-gina_2-1-1-e1711990482267.jpg
END:VEVENT
BEGIN:VEVENT
DTSTART;TZID=America/Sao_Paulo:20240427T150000
DTEND;TZID=America/Sao_Paulo:20240427T170000
DTSTAMP:20260425T084109
CREATED:20240401T170222Z
LAST-MODIFIED:20240424T180613Z
UID:239017-1714230000-1714237200@memorialdaresistenciasp.org.br
SUMMARY:Tarde de Memórias: Memórias estampadas - transferências de imagens em tecido
DESCRIPTION:  27 de abril \n\n\n\n  15 horas \n\n\n\n  Atividade gratuita \n\n\n\n  Lugar de Encontro (3º andar) \n\n\n\n\n \n\n\n\nO Núcleo de Ação Educativa do Memorial promove a oficina Memórias estampadas: transferência de imagens em tecido\, quando serão utilizadas imagens da exposição temporária Mulheres em Luta! Arquivos de Memória Política composta por acervo documental diverso\, com fotografias\, ilustrações\, panfletos\, cartas etc.    \n\n\n\nAo final da proposta\, cada participante poderá levar consigo sua produção como lembrança da visita.   \n\n\n\nAs Tardes de Memórias propõem\, a cada encontro\, jogos lúdico-pedagógicos junto aos visitantes para explorar\, de forma lúdica e descontraída\, temas centrais do Memorial. \n\n\n\n \n\n\n\nA atividade é gratuita\, não haverá inscrição\, e está sujeita a lotação.
URL:https://memorialdaresistenciasp.org.br/programacao/tarde-de-memorias-memorias-estampadas-transferencias-de-imagens-em-tecido/
ATTACH;FMTTYPE=image/jpeg:https://memorialdaresistenciasp.org.br/wp-content/uploads/2024/02/Image.jpg
END:VEVENT
END:VCALENDAR