
BEGIN:VCALENDAR
VERSION:2.0
PRODID:-//Memorial da Resistência - ECPv6.15.20//NONSGML v1.0//EN
CALSCALE:GREGORIAN
METHOD:PUBLISH
X-WR-CALNAME:Memorial da Resistência
X-ORIGINAL-URL:https://memorialdaresistenciasp.org.br
X-WR-CALDESC:Eventos para Memorial da Resistência
REFRESH-INTERVAL;VALUE=DURATION:PT1H
X-Robots-Tag:noindex
X-PUBLISHED-TTL:PT1H
BEGIN:VTIMEZONE
TZID:America/Sao_Paulo
BEGIN:STANDARD
TZOFFSETFROM:-0300
TZOFFSETTO:-0300
TZNAME:-03
DTSTART:20230101T000000
END:STANDARD
END:VTIMEZONE
BEGIN:VEVENT
DTSTART;TZID=America/Sao_Paulo:20240706T110000
DTEND;TZID=America/Sao_Paulo:20240706T130000
DTSTAMP:20260423T000338
CREATED:20240701T150712Z
LAST-MODIFIED:20240706T134857Z
UID:239584-1720263600-1720270800@memorialdaresistenciasp.org.br
SUMMARY:Roda de conversa | Percursos de gênero: registros da ação política de mulheres em arquivos comunitários e museus
DESCRIPTION:Movimentos Sociais; Saguao da Prefeitura; 17/09/1980\n\n\n\n\n\n\n\n\n  6 de julho \n\n\n\n 11 horas \n\n\n\n  Atividade gratuita \n\n\n\n  Espaço expositivo (3º andar) \n\n\n\n\n\n\n\n\nA roda de conversa aborda qual o lugar das experiências de gênero em acervos constituídos em São Paulo\, em um debate com o Museu de Arte Osório César (MAOC) e o Centro de Memória Queixadas – Sebastião Silva de Souzas (CMQueixadas).   \n\n\n\nA ação parte da experiência realizada pelo Acervo Bajubá no acervo do Centro de Referência do Memorial da Resistência em 2021. O percurso curatorial teve como objetivo analisar qual o lugar das experiências de gênero nas memórias da repressão e da resistência políticas no Brasil articuladas pela instituição.  \n\n\n\nA atividade é gratuita e não precisa de inscrição. 
URL:https://memorialdaresistenciasp.org.br/programacao/roda-de-conversa-percursos-de-genero-registros-da-acao-politica-de-mulheres-em-arquivos-comunitarios-e-museus/
ATTACH;FMTTYPE=image/jpeg:https://memorialdaresistenciasp.org.br/wp-content/uploads/2024/07/APESP_1980-Caravana-Movimento-por-creche-na-prefeitura_BR_SP_APESP_MOV_ICO_AMP_020_040-1-e1719846403739.jpg
END:VEVENT
BEGIN:VEVENT
DTSTART;TZID=America/Sao_Paulo:20240706T150000
DTEND;TZID=America/Sao_Paulo:20240706T170000
DTSTAMP:20260423T000338
CREATED:20240701T162225Z
LAST-MODIFIED:20240701T162449Z
UID:239588-1720278000-1720285200@memorialdaresistenciasp.org.br
SUMMARY:Roda de conversa | Feministas geração 68: por um novo envelhecer
DESCRIPTION:  6 de julho \n\n\n\n  15 horas \n\n\n\n  Atividade gratuita \n\n\n\n  Lugar de encontro (3º andar) \n\n\n\n\n\n\n\n\nOrganizada por mulheres feministas da Geração 68\, a sexta e última roda de conversa organizada no âmbito da exposição Mulheres em Luta! Arquivos de memória política convida o público para discutir\, em conjunto\, possibilidades e caminhos para envelhecer.   \n\n\n\nNós\, feministas da Geração 68\, que rompeu com muitas barreiras\, que lutou contra a ditadura\, pela justiça social\, pelos direitos das mulheres e de todas as maiorias minorizadas\, que viveu a libertação sexual com a descoberta da pílula e que nunca deixou de lutar e desbravar horizontes\, chega aos 60\, 70\, 80 anos sem modelos a seguir. É sobre como viver uma velhice poderosa\, criativa e apaixonada que queremos conversar.  \n\n\n\nA atividade é gratuita e não precisa de inscrição. 
URL:https://memorialdaresistenciasp.org.br/programacao/roda-de-conversa-feministas-geracao-68-por-um-novo-envelhecer/
ATTACH;FMTTYPE=image/jpeg:https://memorialdaresistenciasp.org.br/wp-content/uploads/2024/07/maxresdefault-1-e1719850934161.jpg
END:VEVENT
BEGIN:VEVENT
DTSTART;TZID=America/Sao_Paulo:20240713T150000
DTEND;TZID=America/Sao_Paulo:20240713T170000
DTSTAMP:20260423T000338
CREATED:20240701T163117Z
LAST-MODIFIED:20240702T193229Z
UID:239595-1720882800-1720890000@memorialdaresistenciasp.org.br
SUMMARY:Tarde de Memórias | Oficina de escrita: Carta/Manifesto    
DESCRIPTION:Abertura da exposição Mulheres em Luta! Arquivos de memória política no Memorial da Resistência de São Paulo 06/10/2023 © Levi Fanan / Memorial da Resistência de São Paulo\n\n\n\n\n\n\n\n\n  13 de julho \n\n\n\n 15 horas \n\n\n\n  Atividade gratuita \n\n\n\n  Lugar de encontro (3º andar) \n\n\n\n\n\n\n\n\nNo mês de encerramento da exposição Mulheres em Luta! Arquivos de memória política\, a Tarde de Memórias de julho contará com uma oficina de escrita de carta/manifesto. Serão apresentados e contextualizados documentos presentes na mostra\, trazendo a escrita como uma importante forma de luta por direitos e registro da memória.   \n\n\n\nCada pessoa participante será convidada a redigir sua carta/manifesto\, podendo levar sua produção ou deixar disponível para visualização.    \n\n\n\nVagas limitadas. Inscrições a partir de 3 de julho. \n\n\n\n \n\n\n\n\nINSCREVA-SE
URL:https://memorialdaresistenciasp.org.br/programacao/tarde-de-memorias-oficina-de-escrita-carta-manifesto/
ATTACH;FMTTYPE=image/jpeg:https://memorialdaresistenciasp.org.br/wp-content/uploads/2024/07/20231007_LF_Pina_Memorial_Abertura-da-exposicao-Mulheres-em-Luta-Arquivos-de-memoria-politica-154-1-1-scaled-e1719851457997.jpg
END:VEVENT
BEGIN:VEVENT
DTSTART;TZID=America/Sao_Paulo:20240720T140000
DTEND;TZID=America/Sao_Paulo:20240720T170000
DTSTAMP:20260423T000338
CREATED:20240701T165915Z
LAST-MODIFIED:20240716T201626Z
UID:239599-1721484000-1721494800@memorialdaresistenciasp.org.br
SUMMARY:Programação especial: Mulheres em Luta!  
DESCRIPTION:Abertura da exposição Mulheres em Luta! Arquivos de memória política no Memorial da Resistência de São Paulo 06/10/2023 © Levi Fanan / Memorial da Resistência de São Paulo\n\n\n\n\n\n\n\n\n  20 de julho \n\n\n\n 14 horas \n\n\n\n  Atividade gratuita \n\n\n\n  Espaço expositivo (3º andar) \n\n\n\n\n\n\n\n\nComo parte do encerramento da exposição Mulheres em Luta! Arquivos de memória política\, o Memorial da Resistência promove uma roda de conversa com as militantes\, mães e artistas que integram a mostra. \n\n\n\nNo encontro\, elas serão convidadas a refletir sobre a experiência da exposição\, suas lutas e seus caminhos para o futuro. O evento também marca o lançamento da publicação oficial da exposição\, impressa e virtual\, celebrando a trajetória e a resistência dessas mulheres.  \n\n\n\nAo final\, o encontro será acompanhado por uma roda de samba com o Cordão da Mentira\, às 16h. \n\n\n\nO encontro conta com o apoio da Fundação Friedrich Ebert (FES) Brasil. \n\n\n\nA atividade é gratuita e não precisa de inscrição. \n\n\n\n \n\n\n\n\nRESERVE SEU INGRESSO
URL:https://memorialdaresistenciasp.org.br/programacao/roda-de-conversa-mulheres-em-luta-lancamento-do-catalogo/
ATTACH;FMTTYPE=image/jpeg:https://memorialdaresistenciasp.org.br/wp-content/uploads/2023/10/20231007_LF_Pina_Memorial_Abertura-da-exposição-Mulheres-em-Luta-Arquivos-de-memória-política-187--scaled.jpg
END:VEVENT
BEGIN:VEVENT
DTSTART;TZID=America/Sao_Paulo:20240727T140000
DTEND;TZID=America/Sao_Paulo:20240727T160000
DTSTAMP:20260423T000338
CREATED:20240701T170711Z
LAST-MODIFIED:20240723T190240Z
UID:239603-1722088800-1722096000@memorialdaresistenciasp.org.br
SUMMARY:Oficina "Caminhos para pensar o Brasil a partir do trabalho doméstico"\, com SOS Corpo
DESCRIPTION:Imagem do filme Digo às companheiras que aqui estão\n\n\n\n\n\n\n\n\n  27 de julho \n\n\n\n 14 horas \n\n\n\n  Atividade gratuita \n\n\n\n  Lugar de encontro (3º andar) \n\n\n\n\n\n\n\n\nCom organização do SOS Corpo – Instituto Feminista para Democracia\, em parceria com a FES – Fundação Friedrich Ebert Brasil\, a oficina coloca em prática um dos roteiros pedagógicos desenvolvidos na publicação Caminhos para pensar o Brasil com Lenira Carvalho. A atividade aborda as ideias de Lenira Carvalho (1932–2021) em diálogo com as de outras pensadoras e com diversas fontes como notícias de jornal\, dados estatísticos\, vídeos e fotografias\, conectando suas reflexões a debates sobre o país e outros temas.   \n\n\n\nVagas esgotadas.
URL:https://memorialdaresistenciasp.org.br/programacao/oficina-caminhos-para-pensar-o-brasil-a-partir-do-trabalho-domestico-com-sos-corpo/
ATTACH;FMTTYPE=image/jpeg:https://memorialdaresistenciasp.org.br/wp-content/uploads/2024/07/169824122965391acd3297c_1698241229_3x2_md-1-e1719853596460.jpg
END:VEVENT
BEGIN:VEVENT
DTSTART;TZID=America/Sao_Paulo:20240727T170000
DTEND;TZID=America/Sao_Paulo:20240727T180000
DTSTAMP:20260423T000338
CREATED:20240701T171611Z
LAST-MODIFIED:20240715T162245Z
UID:239607-1722099600-1722103200@memorialdaresistenciasp.org.br
SUMMARY:Cine Resistência: Digo às companheiras que aqui estão
DESCRIPTION:  27 de julho \n\n\n\n 17 horas \n\n\n\n  Atividade gratuita \n\n\n\n  Lugar de encontro (3º andar) \n\n\n\n\n\n\n\n\nO Memorial exibe o filme Digo às companheiras que aqui estão (2022\, 35min)\, dirigido por Sophia Branco e Luís Henrique Leal\, com produção Parabelo Filmes e SOS Corpo. O filme trata da história de vida da liderança popular Lenira Carvalho (1932–2021)\, pioneira na luta das trabalhadoras domésticas. Nos relatos coletados\, sua história de vida pessoal se entrelaça com a busca por direitos e pela democracia nas últimas seis décadas no país.  \n\n\n\nA atividade é gratuita\, e não precisa de inscrição. 
URL:https://memorialdaresistenciasp.org.br/programacao/cine-resistencia-a-luta-que-me-fez-crescer/
ATTACH;FMTTYPE=image/png:https://memorialdaresistenciasp.org.br/wp-content/uploads/2024/07/1c47878527-poster-1-e1719854158843.png
END:VEVENT
BEGIN:VEVENT
DTSTART;TZID=America/Sao_Paulo:20240728T140000
DTEND;TZID=America/Sao_Paulo:20240728T153000
DTSTAMP:20260423T000338
CREATED:20240701T173755Z
LAST-MODIFIED:20240717T170744Z
UID:239611-1722175200-1722180600@memorialdaresistenciasp.org.br
SUMMARY:Visita guiada à exposição Mulheres em luta! Arquivos de memória política 
DESCRIPTION:  28 de julho \n\n\n\n 14 horas \n\n\n\n  Atividade gratuita \n\n\n\n  Espaço expositivo (3º andar) \n\n\n\n\n\n\n\n\nNo encerramento da exposição Mulheres em luta! Arquivos de memória política\, a Ação Educativa do Memorial da Resistência realiza uma visita mediada com o público inscrito. Durante a atividade\, serão distribuídos\, gratuitamente\, catálogos da exposição ao grupo da visita.  \n\n\n\nVagas limitadas.  \n\n\n\n \n\n\n\n\nINSCREVA-SE
URL:https://memorialdaresistenciasp.org.br/programacao/visita-guiada-a-exposicao-mulheres-em-luta-arquivos-de-memoria-politica/
ATTACH;FMTTYPE=image/jpeg:https://memorialdaresistenciasp.org.br/wp-content/uploads/2024/07/Mulheres_em_Luta_49_OUT2023_IM-1024x683-1-e1719855466451.jpg
END:VEVENT
END:VCALENDAR