
BEGIN:VCALENDAR
VERSION:2.0
PRODID:-//Memorial da Resistência - ECPv6.15.20//NONSGML v1.0//EN
CALSCALE:GREGORIAN
METHOD:PUBLISH
X-ORIGINAL-URL:https://memorialdaresistenciasp.org.br
X-WR-CALDESC:Eventos para Memorial da Resistência
REFRESH-INTERVAL;VALUE=DURATION:PT1H
X-Robots-Tag:noindex
X-PUBLISHED-TTL:PT1H
BEGIN:VTIMEZONE
TZID:America/Sao_Paulo
BEGIN:STANDARD
TZOFFSETFROM:-0300
TZOFFSETTO:-0300
TZNAME:-03
DTSTART:20230101T000000
END:STANDARD
END:VTIMEZONE
BEGIN:VEVENT
DTSTART;TZID=America/Sao_Paulo:20240803T150000
DTEND;TZID=America/Sao_Paulo:20240803T170000
DTSTAMP:20260422T225130
CREATED:20240731T134636Z
LAST-MODIFIED:20240731T162321Z
UID:239968-1722697200-1722704400@memorialdaresistenciasp.org.br
SUMMARY:Cine Resistência: "A Flecha e a Farda"
DESCRIPTION:  3 de agosto \n\n\n\n 15 horas \n\n\n\n  Atividade gratuita \n\n\n\n  Auditório (5°andar) \n\n\n\n\n\n\n\n\nEm agosto\, o Memorial faz o lançamento digital de um dos projetos selecionados na 3ª edição do Edital Memórias do Presente: Comunicação em Direitos Humanos: Sobre Terras e Mentes – O Ataque Militar às Terras e Culturas Indígenas\, produzido por Juli Candido.   \n\n\n\nComo parte da programação de lançamento do projeto\, realizaremos a exibição do filme A Flecha e a Farda (2018)\, seguido de debate com o diretor Miguel Antunes Ramos\, com mediação de Juli Candido.  \n\n\n\nO documentário aborda a história da Guarda Rural Indígena (GRIN)\, formada por indígenas e criada pela FUNAI em 1969\, durante a Ditadura Civil-Militar.  \n\n\n\nEm 1970\, oitenta indígenas marcharam\, fardados\, no pátio de uma delegacia\, para a cúpula do regime militar. A descoberta de registros da primeira e única turma da Guarda Rural Indígena (GRIN) dá início ao filme que\, cinquenta anos depois\, busca estes guardas – seus corpos\, suas histórias\, suas memórias.  \n\n\n\nA atividade é gratuita e não precisa de inscrição.  \n\n\n\nClassificação indicativa: 12 anos.
URL:https://memorialdaresistenciasp.org.br/programacao/cine-resistencia-a-flecha-e-a-farda-2/
ATTACH;FMTTYPE=image/png:https://memorialdaresistenciasp.org.br/wp-content/uploads/2024/07/a-flecha-e-a-farda_still4-1-e1722280918153.png
END:VEVENT
BEGIN:VEVENT
DTSTART;TZID=America/Sao_Paulo:20240810T103000
DTEND;TZID=America/Sao_Paulo:20240810T170000
DTSTAMP:20260422T225130
CREATED:20240730T134625Z
LAST-MODIFIED:20240806T151323Z
UID:239947-1723285800-1723309200@memorialdaresistenciasp.org.br
SUMMARY:Seminário: Pensar São Paulo durante a ditadura  
DESCRIPTION:Igreja de Santa Ifigênia em 1975. Esquina das Ruas Casper Líbero e Santa Ifigênia. Crédito: Waldemir Gomes de Lima. Acervo Fotográfico do Museu da Cidade de São Paulo\n\n\n\n\n\n\n\n\n  10 de agosto \n\n\n\n 10h30 \n\n\n\n  Atividade gratuita \n\n\n\n Centro Universitário MariAntônia e Memorial da Resistência \n\n\n\n\n\n\n\n\nO seminário Pensar São Paulo durante a Ditadura apresenta as alterações na paisagem urbana de São Paulo a partir de uma visita à exposição Paisagem e Poder: construções do Brasil na ditadura\, em cartaz no Centro Universitário MariAntonia\, e busca problematizar sobre os impactos dessas transformações urbanas e sociais nos múltiplos territórios da cidade. \n\n\n\nO evento será realizado em dois momentos: pela manhã\, uma visita na exposição com mediação de um dos curadores. Pela tarde\, o debate acontece no Memorial da Resistência.  \n\n\n\nParticipam do seminário: Victor Próspero\, um dos curadores da exposição Paisagem e Poder\, Déborah Neves\, pesquisadora Unifesp\, Érika Barbosa\, do Centro de Memória Queixadas e Marcos Tolentino\, pesquisador do Acervo Bajubá. \n\n\n\nA atividade é gratuita e não precisa de inscrição. 
URL:https://memorialdaresistenciasp.org.br/programacao/seminario-pensar-sao-paulo-durante-a-ditadura/
ATTACH;FMTTYPE=image/jpeg:https://memorialdaresistenciasp.org.br/wp-content/uploads/2024/07/2063F_baixa-e1722350688774.jpg
END:VEVENT
BEGIN:VEVENT
DTSTART;TZID=America/Sao_Paulo:20240810T150000
DTEND;TZID=America/Sao_Paulo:20240810T170000
DTSTAMP:20260422T225130
CREATED:20240730T140153Z
LAST-MODIFIED:20240806T151405Z
UID:239950-1723302000-1723309200@memorialdaresistenciasp.org.br
SUMMARY:Tarde de Memórias - Neide Sá 
DESCRIPTION: 10 de agosto \n\n\n\n 15 horas \n\n\n\n  Atividade gratuita \n\n\n\n  Espaço expositivo (2º andar) \n\n\n\n\n\n\n\n\nEm ocasião do encerramento da exposição Sol Fulgurante: arquivos de vida e resistência\, a Tarde de Memórias de agosto contará com uma oficina a partir da obra A Corda\, da artista Neide Sá\, presente na mostra.   \n\n\n\nNa oficina o visitante será contextualizado da obra da artista e fará sua própria obra com recortes de jornais e revistas cedidas pela equipe de Ação Educativa.   \n\n\n\nA atividade é gratuita e não precisa de inscrição.
URL:https://memorialdaresistenciasp.org.br/programacao/tarde-de-memorias-neide-sa/
ATTACH;FMTTYPE=image/jpeg:https://memorialdaresistenciasp.org.br/wp-content/uploads/2024/05/Sol_fulgurante_06_ABR2024_IM-e1722350801278.jpg
END:VEVENT
BEGIN:VEVENT
DTSTART;TZID=America/Sao_Paulo:20240817T140000
DTEND;TZID=America/Sao_Paulo:20240817T160000
DTSTAMP:20260422T225130
CREATED:20240730T142445Z
LAST-MODIFIED:20240730T142942Z
UID:239954-1723903200-1723910400@memorialdaresistenciasp.org.br
SUMMARY:Sábado Resistente: O papel das religiões na política  
DESCRIPTION:Presença policial durante a assembleia do Movimento do Custo de Vida em frente à Catedral da Sé em 1978. Crédito: Nair Benedicto. Acervo CEDEM-UNESP\n\n\n\n\n\n\n\n\n  17 de agosto \n\n\n\n 14 horas \n\n\n\n  Atividade gratuita \n\n\n\n  Auditório (5º andar) \n\n\n\n\n\n\n\n\nEm 2024\, ano que marca as seis décadas do Golpe Civil-Militar de 1964\, a programação dos Sábados Resistente tem como tema A longa duração do Golpe de 1964. Realizado em parceria com o Núcleo de Preservação da Memória Política\, o quinto encontro do ano vai analisar o papel desempenhado pelas diferentes religiões na esfera política brasileira\, com ênfase no período da Ditadura Civil-Militar.  \n\n\n\nPara debater sobre o assunto\, contaremos com a presença de Magali Cunha\, professora e doutora em comunicação social\, e do Frei Carlos Alberto Libânio Christo (Frei Betto)\, frade dominicano e escritor.  \n\n\n\nO evento será realizado de forma híbrida\, com transmissão através dos canais no Youtube do Núcleo Memória\, do Memorial da Resistência e do Tutaméia.  \n\n\n\nA atividade é gratuita e não precisa de inscrição. 
URL:https://memorialdaresistenciasp.org.br/programacao/sabado-resistente-o-papel-das-religioes-na-politica/
ATTACH;FMTTYPE=image/jpeg:https://memorialdaresistenciasp.org.br/wp-content/uploads/2024/07/763-17A-1024x688-1-e1722349435543.jpg
END:VEVENT
BEGIN:VEVENT
DTSTART;TZID=America/Sao_Paulo:20240820T140000
DTEND;TZID=America/Sao_Paulo:20240820T140000
DTSTAMP:20260422T225130
CREATED:20240730T143610Z
LAST-MODIFIED:20240812T174131Z
UID:239958-1724162400-1724162400@memorialdaresistenciasp.org.br
SUMMARY:Oficina Projeto Resisto! 
DESCRIPTION:  20 de agosto \n\n\n\n 14 horas \n\n\n\n  Atividade gratuita \n\n\n\n  Online \n\n\n\n\n\n\n\n\nA Oficina Projeto Resisto! apresenta o planejamento e a execução da série de vídeos Projeto Resisto!\, que tem como objetivo estimular o desenvolvimento cultural do público infantojuvenil através dos vídeos em formato de telejornal\, que abordam os temas como Repressão\, Resistência\, Patrimônio e Direitos Humanos de forma lúdica e educativa. \n\n\n\nOs vídeos apresentam discussões propostas pela exposição de longa duração e exposições temporárias\, e são acompanhados por materiais de apoio aos professores e roteiros de pesquisa no acervo do Memorial. A atividade propõe abordar as potencialidades destes materiais. \n\n\n\nTodos os episódios contam com recursos de acessibilidade e legendas em inglês e espanhol. \n\n\n\nA atividade é virtual e gratuita. \n\n\n\n \n\n\n\n\nINSCREVA-SE
URL:https://memorialdaresistenciasp.org.br/programacao/oficina-projeto-resisto-9/
ATTACH;FMTTYPE=image/jpeg:https://memorialdaresistenciasp.org.br/wp-content/uploads/2024/07/Arte-site-1024x512-1-e1722350161843.jpeg
END:VEVENT
BEGIN:VEVENT
DTSTART;TZID=America/Sao_Paulo:20240821T000000
DTEND;TZID=America/Sao_Paulo:20240821T235959
DTSTAMP:20260422T225130
CREATED:20240830T192000Z
LAST-MODIFIED:20240830T192002Z
UID:240290-1724198400-1724284799@memorialdaresistenciasp.org.br
SUMMARY:Seminário Ditadura Militar: 60 anos depois do golpe 
DESCRIPTION:Repressão policial à greve dos motoristas de ônibus em 1986. Crédito: Mirian Fichtner. Arquivo Público do Estado de São Paulo\n\n\n\n\n\n\n\n\n 21 e 28 de setembro \n\n\n\n \n\n\n\n  Atividade gratuita \n\n\n\n  Auditório (5º andar) \n\n\n\n\n\n\n\n\nEm memória dos 60 anos do golpe militar de 1964\, a Unifesp promove o seminário Ditadura Militar: 60 anos depois do golpe\, no Memorial da Resistência.  \n\n\n\nSerão duas mesas de debate e uma visita mediada na exposição de longa duração do museu\, que apresenta as celas remanescentes do Departamento Estadual de Ordem Política e Social (Deops/SP).  \n\n\n\nSão 70 vagas\, e as inscrições começam no dia 16 de setembro. As atividades são gratuitas.  \n\n\n\n \n\n\n\nConfira a programação:   \n\n\n\n21 de setembro 13h30 – Memórias da Resistência na periferia de São Paulo\, com Sonia Bischain 15h – Visita mediada à exposição de longa duração do Memorial da Resistência  \n\n\n\n28 de setembro 13h30 – As intervenções da ditadura militar nos caminhos da ciência no Brasil\, com Sérgio Barbo 
URL:https://memorialdaresistenciasp.org.br/programacao/seminario-ditadura-militar-60-anos-depois-do-golpe/
ATTACH;FMTTYPE=image/jpeg:https://memorialdaresistenciasp.org.br/wp-content/uploads/2024/08/BR_SP_APESP_MOV_ICO_AMP_029_024-300x227-1-e1725045594219.jpg
END:VEVENT
BEGIN:VEVENT
DTSTART;TZID=America/Sao_Paulo:20240824T150000
DTEND;TZID=America/Sao_Paulo:20240824T170000
DTSTAMP:20260422T225130
CREATED:20240730T150001Z
LAST-MODIFIED:20240730T150003Z
UID:239966-1724511600-1724518800@memorialdaresistenciasp.org.br
SUMMARY:Cine Resistência: Da Vida Bruta 
DESCRIPTION:Abertura da exposição Sol Fulgurante\, arquivos de vida e resistência na Estação Pinacoteca  para Pinacoteca de São Paulo.  06/04/2024 © Levi Fanan / Pinacoteca de São Paulo\n\n\n\n\n\n\n\n\n 24 de agosto \n\n\n\n 15 horas \n\n\n\n  Atividade gratuita \n\n\n\n  Auditório (5º andar) \n\n\n\n\n\n\n\n\nO Memorial realiza a exibição do documentário “Da Vida Bruta” (2024\, 81 min\, direção Roberto Fernández)\, dedicado à história de vida\, luta e resistência da militante e ex-presa política Rita Sipahi. Na época da Ditadura Civil-Militar (1964-1985)\, Rita formou parte de diferentes organizações revolucionárias\, como a Juventude Universitária Católica (JUC) e a Ação Popular (AP)\, para enfrentar e resistir a um dos períodos mais repressivos e violentos do país. \n\n\n\n A exibição será acompanhada por uma roda de conversa com Rita e o diretor\, discutindo temas como luta por direitos ontem e hoje\, os desafios das mulheres na militância e a importância de se preservar a memória política brasileira.
URL:https://memorialdaresistenciasp.org.br/programacao/cine-resistencia-da-vida-bruta/
ATTACH;FMTTYPE=image/jpeg:https://memorialdaresistenciasp.org.br/wp-content/uploads/2024/04/20240406_LF_Pina_Abertura-Sol-Fulgurante-116-Rita-Sipahi-scaled-e1722351577693.jpg
END:VEVENT
BEGIN:VEVENT
DTSTART;TZID=America/Sao_Paulo:20240830T150000
DTEND;TZID=America/Sao_Paulo:20240830T170000
DTSTAMP:20260422T225130
CREATED:20240830T190224Z
LAST-MODIFIED:20240830T192900Z
UID:240283-1725030000-1725037200@memorialdaresistenciasp.org.br
SUMMARY:Tarde de Memórias 
DESCRIPTION: 14 de setembro \n\n\n\n 15h \n\n\n\n  Atividade gratuita \n\n\n\n  Espaço expositivo (térreo)  \n\n\n\n\n\n\n\n\nO Núcleo de Ação Educativa do museu oferece três jogos lúdico-pedagógicos em forma de rodízio\, para o público jogar nos espaços expositivos. A atividade é mediada pelos educadores\, e exploram os eixos temáticos do museu: Repressão\, Resistência\, Direitos Humanos e Patrimônio.
URL:https://memorialdaresistenciasp.org.br/programacao/tarde-de-memorias-12/
ATTACH;FMTTYPE=image/jpeg:https://memorialdaresistenciasp.org.br/wp-content/uploads/2024/08/Tarde-de-Memorias-1024x682-1-e1698850330715-300x281-1-e1725043706847.jpeg
END:VEVENT
BEGIN:VEVENT
DTSTART;TZID=America/Sao_Paulo:20240831T143000
DTEND;TZID=America/Sao_Paulo:20240831T170000
DTSTAMP:20260422T225130
CREATED:20240819T185313Z
LAST-MODIFIED:20240820T184042Z
UID:240194-1725114600-1725123600@memorialdaresistenciasp.org.br
SUMMARY:Coleta Pública Visibilidades Lésbicas: Presença e Ocupação em Espaços Públicos
DESCRIPTION:Arte: Angel Natan\n\n\n\n\n\n\n\n\n 31 de agosto \n\n\n\n 14h30 \n\n\n\n  Atividade gratuita \n\n\n\n  Auditório (5º andar) \n\n\n\n\n\n\n\n\nEm celebração ao Mês da Visibilidade Lésbica\, o Memorial da Resistência promove uma coleta pública de testemunhos que vai refletir sobre presença e ocupação lésbica em espaços públicos. \n\n\n\nApós a exposição dos convidados\, o público toma a palavra para perguntas e contribuições com o tema. A proposta de uma Coleta Pública de Testemunhos é refletir e aproximar o público de temas a partir de debates com personalidades\, militantes de direitos humanos e movimentos sociais\, ex-presos e perseguidos políticos sobre suas experiências de resistência. \n\n\n\nO evento foi elaborado a partir do interesse do público pelos processos do programa Coleta Regular de Testemunhos\, que produz um amplo acervo de entrevistas gravadas em vídeo para a construção do acervo de história oral do museu. \n\n\n\nConvidadas\n\n\n\nLélia Batista Alves \n\n\n\nMulher cis lésbica\, 62 anos – pedagoga com atuação na Associação Viva a Diversidade\, ONG LGBTI+ com registro e atuação há mais de 20 anos. Casada com Dejanira há 24 anos. Membro do Conselho dos Direitos da pessoa Humana- CONDEP\, atua junto ao Fórum Paulista LGBTI+ e nas Paradas Estadual e Nacional. Também participa nas várias frentes de luta das pautas sobre a Mulher e suas condições sociais. \n\n\n\nAdriana Arco-iris   \n\n\n\nAdriana Simone da Silva\, conhecida como Adriana Arco-iris nasceu em Natal e mora em São Paulo \n\n\n\nÉ lésbica e ativista militante desde 1995. Participa da criação da Parada de São Paulo\, onde desfila desde seu início\, em junho de 1997. Comerciante\, teve uma loja LGBT no Largo do Arouche por 17 anos\, mas segue desenvolvendo a Marca Acessórios Arco-iris\, com a produção de bandeiras\, colares\, lenços e pulseiras. Participou do Fórum Mundial em Porto Alegre e em diversas conferências municipais\, estaduais e federais. Também participou de diversos Senale (hoje Senalesbi) e atua como educadora social para a ONG Casarão Brasil. \n\n\n\nMediadora\n\n\n\nAriana Mara da Silva \n\n\n\nSapatão e pesquisadora do Acervo Bajubá. Doutoranda em História pelo Programa de Pós-graduação em História da Universidade do Estado de Santa Catarina – UDESC (2020). Mestra em Estudos Interdisciplinares Sobre a Mulher pela Universidade Federal da Bahia – NEIM/UFBA (2019). Bacharela em História – América Latina pela Universidade Federal da Integração Latino Americana – UNILA (2016). Bacharela em Relações Internacionais e Comércio Exterior pela Universidade de Ribeirão Preto – UNAERP (2013). Membra do Grupo de Estudos Multidisciplinares em Urbanismos e Arquiteturas do Sul- MALOCA. Membra do NEALA/UNILA. Trabalha principalmente com os temas: mulheres negras\, rap\, lesbianidade\, etnomusicologia\, teoria decolonial\, feminismos\, América Latina e representação.
URL:https://memorialdaresistenciasp.org.br/programacao/coleta-publica-visibilidades-lesbicas-presenca-e-ocupacao-em-espacos-publicos/
ATTACH;FMTTYPE=image/jpeg:https://memorialdaresistenciasp.org.br/wp-content/uploads/2024/08/shared-image-1-1-1-e1724093569889.jpg
END:VEVENT
END:VCALENDAR