
BEGIN:VCALENDAR
VERSION:2.0
PRODID:-//Memorial da Resistência - ECPv6.15.20//NONSGML v1.0//EN
CALSCALE:GREGORIAN
METHOD:PUBLISH
X-ORIGINAL-URL:https://memorialdaresistenciasp.org.br
X-WR-CALDESC:Eventos para Memorial da Resistência
REFRESH-INTERVAL;VALUE=DURATION:PT1H
X-Robots-Tag:noindex
X-PUBLISHED-TTL:PT1H
BEGIN:VTIMEZONE
TZID:America/Sao_Paulo
BEGIN:STANDARD
TZOFFSETFROM:-0300
TZOFFSETTO:-0300
TZNAME:-03
DTSTART:20230101T000000
END:STANDARD
END:VTIMEZONE
BEGIN:VEVENT
DTSTART;TZID=America/Sao_Paulo:20240907T110000
DTEND;TZID=America/Sao_Paulo:20240907T170000
DTSTAMP:20260422T211426
CREATED:20240830T171255Z
LAST-MODIFIED:20240830T171512Z
UID:240267-1725706800-1725728400@memorialdaresistenciasp.org.br
SUMMARY:Abertura das exposições BNM e ESMA
DESCRIPTION:
URL:https://memorialdaresistenciasp.org.br/programacao/abertura-das-exposicoes-bnm-e-esma/
ATTACH;FMTTYPE=image/jpeg:https://memorialdaresistenciasp.org.br/wp-content/uploads/2024/08/HEADER_ESMA-BNM-2-1024x576-1-e1725038106470.jpg
END:VEVENT
BEGIN:VEVENT
DTSTART;TZID=America/Sao_Paulo:20240907T143000
DTEND;TZID=America/Sao_Paulo:20240907T170000
DTSTAMP:20260422T211426
CREATED:20240830T172135Z
LAST-MODIFIED:20240902T165834Z
UID:240273-1725719400-1725728400@memorialdaresistenciasp.org.br
SUMMARY:Sábado Resistente: “Nunca mais: políticas de memória na América Latina” 
DESCRIPTION:Passeata no dia 22 de agosto de 1980 na Praça Ramos de Azevedo em protesto e em memória aos  desaparecidos políticos na Argentina e no Brasil. Crédito: Arquivo Público do Estado de São Paulo\n\n\n\n\n\n\n\n\n 7 de agosto \n\n\n\n 14h30 \n\n\n\n  Atividade gratuita \n\n\n\n  Auditório (5º andar) \n\n\n\n\n\n\n\n\nA partir do diálogo entre as duas exposições\, o Sábado Resistente\, realizado em parceria com Núcleo de Preservação da Memória Política\, aborda a construção de uma memória coletiva sobre os períodos de repressão.  \n\n\n\nPara debater este tema\, contaremos com a presença de Mayki Gorosito\, diretora executiva do Museu Sítio de Memória ESMA\, e de Luiz Eduardo Greenhalgh\, advogado e um dos responsáveis pelo projeto “Brasil: Nunca Mais”.  A mediação do evento será realizada por Maurice Politi\, diretor executivo do Núcleo de Preservação da Memória Política. 
URL:https://memorialdaresistenciasp.org.br/programacao/sabado-resistente-nunca-mais-politicas-de-memoria-na-america-latina/
ATTACH;FMTTYPE=image/jpeg:https://memorialdaresistenciasp.org.br/wp-content/uploads/2024/08/HEADER_ESMA-BNM2-e1725296172470.jpg
END:VEVENT
BEGIN:VEVENT
DTSTART;TZID=America/Sao_Paulo:20240914T110000
DTEND;TZID=America/Sao_Paulo:20240914T130000
DTSTAMP:20260422T211426
CREATED:20240830T182849Z
LAST-MODIFIED:20240902T165658Z
UID:240276-1726311600-1726318800@memorialdaresistenciasp.org.br
SUMMARY:Oficina Escrita Criativa - Escrevendo Afetos entre Mulheres 
DESCRIPTION:Sam McNamara/Unsplash\n\n\n\n\n\n\n\n\n 14 de setembro \n\n\n\n 11h \n\n\n\n  Atividade gratuita \n\n\n\n  Lugar de encontro (3º andar) \n\n\n\n\n\n\n\n\nA pesquisadora\, professora de história e ativista lésbica\, Julia Kumpera\, apresenta no Memorial da Resistência a oficina Escrevendo afetos entre mulheres. O evento busca promover um espaço coletivo para a escrita criativa\, com o objetivo de compartilharmos as produções de autoria feminina além de estimular reflexões sobre os vínculos afetivos construídos entre mulheres.  \n\n\n\nA atividade é gratuita e não precisa de inscrição.
URL:https://memorialdaresistenciasp.org.br/programacao/oficina-escrita-criativa-escrevendo-afetos-entre-mulheres/
ATTACH;FMTTYPE=image/jpeg:https://memorialdaresistenciasp.org.br/wp-content/uploads/2024/08/Foto-de-Sam-McNamara-na-Unsplash-scaled.jpg
END:VEVENT
BEGIN:VEVENT
DTSTART;TZID=America/Sao_Paulo:20240914T150000
DTEND;TZID=America/Sao_Paulo:20240914T170000
DTSTAMP:20260422T211426
CREATED:20240830T183812Z
LAST-MODIFIED:20240911T165046Z
UID:240279-1726326000-1726333200@memorialdaresistenciasp.org.br
SUMMARY:Lançamento livro "O lesbianismo é um barato": Galf e o ativismo lésbico 
DESCRIPTION: 14 de setembro \n\n\n\n 15h \n\n\n\n  Atividade gratuita \n\n\n\n  Lugar de encontro (3º andar) \n\n\n\n\n\n\n\n\nA pesquisadora\, professora de história e ativista lésbica\, Julia Kumpera\, promove o lançamento do livro “O lesbianismo é um barato”: Galf e o ativismo lésbico em uma roda de conversa com as convidadas Fernanda Gomes e Rita Quadros.  \n\n\n\nA atividade é gratuita e não precisa de inscrição. 
URL:https://memorialdaresistenciasp.org.br/programacao/lancamento-livro-o-lesbianismo-e-um-barato-galf-e-o-ativismo-lesbico/
ATTACH;FMTTYPE=image/png:https://memorialdaresistenciasp.org.br/wp-content/uploads/2024/08/thumbnail_Capa-do-livrinho-1-e1725042931788.png
END:VEVENT
BEGIN:VEVENT
DTSTART;TZID=America/Sao_Paulo:20240917T140000
DTEND;TZID=America/Sao_Paulo:20240917T160000
DTSTAMP:20260422T211426
CREATED:20240830T190655Z
LAST-MODIFIED:20240909T145120Z
UID:240286-1726581600-1726588800@memorialdaresistenciasp.org.br
SUMMARY:Oficina Projeto Resisto! 
DESCRIPTION: 17 de setembro \n\n\n\n 14h \n\n\n\n  Atividade gratuita \n\n\n\n  Online \n\n\n\n\n\n\n\n\nA Oficina Projeto Resisto! apresenta o planejamento e a execução da série de vídeos Projeto Resisto!\, que tem como objetivo estimular o desenvolvimento cultural do público infantojuvenil através dos vídeos em formato de telejornal\, que abordam os temas como Repressão\, Resistência\, Patrimônio e Direitos Humanos de forma lúdica e educativa. \n\n\n\nOs vídeos apresentam discussões propostas pela exposição de longa duração e exposições temporárias\, e são acompanhados por materiais de apoio aos professores e roteiros de pesquisa no acervo do Memorial. A atividade propõe abordar as potencialidades destes materiais. \n\n\n\nTodos os episódios contam com recursos de acessibilidade e legendas em inglês e espanhol. \n\n\n\nA atividade é virtual e gratuita. \n\n\n\n \n\n\n\n\nINSCREVA-SE
URL:https://memorialdaresistenciasp.org.br/programacao/oficina-projeto-resisto-10/
ATTACH;FMTTYPE=image/jpeg:https://memorialdaresistenciasp.org.br/wp-content/uploads/2024/08/Arte-site-1024x512-2-e1725044805741.jpeg
END:VEVENT
BEGIN:VEVENT
DTSTART;TZID=America/Sao_Paulo:20240923T000000
DTEND;TZID=America/Sao_Paulo:20240929T235959
DTSTAMP:20260422T211426
CREATED:20240830T192639Z
LAST-MODIFIED:20240923T180333Z
UID:240293-1727049600-1727654399@memorialdaresistenciasp.org.br
SUMMARY:Roda de conversa - Memorial ParaTodos: 10 anos
DESCRIPTION: 28 de setembro \n\n\n\n 14 horas \n\n\n\n  Atividade gratuita \n\n\n\n  Espaço expositivo (3º andar) \n\n\n\n\n\n\n\n\nEm celebração ao aniversário de 10 anos do programa Memorial ParaTodos\, o Memorial da Resistência promove uma roda de conversa com Petronio Pereira de Souza\, professor\, cientista político e um dos participantes do projeto Brasil: Nunca Mais.  \n\n\n\nO projeto foi responsável por sistematizar e produzir cópias\, clandestinamente\, de 707 processos do Superior Tribunal Militar (STM)\, revelando a extensão da repressão política do Brasil na Ditadura Militar. A história do projeto e seus desdobramentos são apresentadas na exposição Uma Vertigem Visionária — Brasil: Nunca Mais\, em cartaz no museu. \n\n\n\nA atividade é parte da programação da Primavera de Museus de 2024\, que em sua 18ª edição tem como tema Museus\, acessibilidade e inclusão. \n\n\n\nEntre os dias 23 e 29 de setembro\, apresentamos a retrospectiva Memorial ParaTodos: 10 anos\, que exibe em uma vitrine os materiais dos dez anos do projeto\, dedicado à acessibilidade. 
URL:https://memorialdaresistenciasp.org.br/programacao/memorial-paratodos-10-anos/
ATTACH;FMTTYPE=image/jpeg:https://memorialdaresistenciasp.org.br/wp-content/uploads/2024/08/DSC_0013-1024x683-2-e1725045992801.jpg
END:VEVENT
BEGIN:VEVENT
DTSTART;TZID=America/Sao_Paulo:20240928T140000
DTEND;TZID=America/Sao_Paulo:20240928T170000
DTSTAMP:20260422T211426
CREATED:20240923T175732Z
LAST-MODIFIED:20240923T181133Z
UID:240665-1727532000-1727542800@memorialdaresistenciasp.org.br
SUMMARY:Sábado Resistente - Um golpe contra a cidadania: Efeitos da ditadura na sociedade
DESCRIPTION:Comício das Diretas em 1984 em frente à Catedral da Sé. Crédito: Arquivo Público do Estado de São Paulo. \n\n\n\n\n 28 de setembro \n\n\n\n 14 horas \n\n\n\n  Atividade gratuita \n\n\n\n  Auditório (5º andar) \n\n\n\n\n\n\n\n\nEm 2024\, ano que marca as seis décadas do Golpe Civil-Militar de 1964\, a programação dos Sábados Resistente tem como tema A longa duração do Golpe de 1964. O próximo encontro realizado pelo Núcleo Memória em parceria com o Memorial da Resistência\, reflete sobre as consequências da Ditadura Militar para a cidadania. \n\n\n\nPara debater sobre este tema\, contaremos com a presença de Airton Soares\, advogado de presos políticos durante o regime militar\, e Flavio Leão Bastos\, advogado\, professor da Universidade Mackenzie e especialista na defesa dos Direitos Humanos. \n\n\n\nO evento será realizado de forma híbrida (presencial e online)\, com transmissão através dos canais no Youtube do Núcleo Memória @nucleomemoria\, do Memorial da Resistência @memorialdaresistencia e do Tutaméia @tutameiaTV. \n\n\n\nA atividade é gratuita e não precisa de inscrição.
URL:https://memorialdaresistenciasp.org.br/programacao/sabado-resistente-um-golpe-contra-a-cidadania-efeitos-da-ditadura-na-sociedade/
ATTACH;FMTTYPE=image/jpeg:https://memorialdaresistenciasp.org.br/wp-content/uploads/2024/09/BR_SP_APESP_MOV_ICO_AMP_002_027_baixa-edited-e1727114735694.jpg
END:VEVENT
END:VCALENDAR