
BEGIN:VCALENDAR
VERSION:2.0
PRODID:-//Memorial da Resistência - ECPv6.15.20//NONSGML v1.0//EN
CALSCALE:GREGORIAN
METHOD:PUBLISH
X-WR-CALNAME:Memorial da Resistência
X-ORIGINAL-URL:https://memorialdaresistenciasp.org.br
X-WR-CALDESC:Eventos para Memorial da Resistência
REFRESH-INTERVAL;VALUE=DURATION:PT1H
X-Robots-Tag:noindex
X-PUBLISHED-TTL:PT1H
BEGIN:VTIMEZONE
TZID:America/Sao_Paulo
BEGIN:STANDARD
TZOFFSETFROM:-0300
TZOFFSETTO:-0300
TZNAME:-03
DTSTART:20230101T000000
END:STANDARD
END:VTIMEZONE
BEGIN:VEVENT
DTSTART;TZID=America/Sao_Paulo:20241019T100000
DTEND;TZID=America/Sao_Paulo:20241019T120000
DTSTAMP:20260422T200029
CREATED:20240930T171927Z
LAST-MODIFIED:20241001T150753Z
UID:240684-1729332000-1729339200@memorialdaresistenciasp.org.br
SUMMARY:Nas Engrenagens da Repressão: Infância\, Saúde Mental e Ditadura no Brasil
DESCRIPTION:Créditos: Arquivo Público do Estado de São Paulo (APESP)\n\n\n\n\n 19 de outubro \n\n\n\n 10 horas \n\n\n\n  Atividade gratuita \n\n\n\n  Auditório (5º andar) \n\n\n\n\n\n\n\n\nO Instituto Bixiga – Pesquisa\, Formação e Cultura Popular promove o curso Nas Engrenagens da Repressão: Infância\, Saúde Mental e Ditadura no Brasil no Memorial da Resistência.  \n\n\n\nA atividade gratuita trata do tema da infância e da saúde mental no Brasil no período da ditadura civil-militar (1964-1985)\, abordando os serviços especializados do Sistema Único da Assistência Social (SUAS)\, a psiquiatrização da infância e da juventude no país e a construção da política nacional da Saúde Mental.  \n\n\n\nPalestrantes\n\n\n\nDANIELLE FRANCO DA ROCHADoutora em História Social\, Mestra em Ciências Sociais e Bacharel em Ciências Econômicas pela Pontifícia Universidade Católica de São Paulo (PUC-SP). Pesquisadora/Professora do Instituto Bixiga de Pesquisa\, Formação e Cultura Popular. \n\n\n\nEDIMILSOM PERES CASTILHODoutor e Mestre em História Social pela Pontifícia Universidade Católica de São Paulo (PUC-SP). Graduado em Arquitetura e Urbanismo pela Universidade Federal de Uberlândia (FAUeD). Pesquisador/Professor do Instituto Bixiga de Pesquisa\, Formação e Cultura Popular.  \n\n\n\nERIBELTO PERES CASTILHODoutor e Mestre em História Social pela Pontifícia Universidade Católica de São Paulo (PUC-SP). Graduado em Direito pela PUC-SP. Bacharel e Licenciado em Ciências Sociais pela Faculdade de Filosofia\, Letras e Ciências Humanas da Universidade de São Paulo (FFLCH/USP). Pesquisador/Professor do Instituto Bixiga de Pesquisa\, Formação e Cultura Popular. \n\n\n\n\n\n\n\n\nINSCREVA-SE
URL:https://memorialdaresistenciasp.org.br/programacao/nas-engrenagens-da-repressao-infancia-saude-mental-e-ditadura-no-brasil/
ATTACH;FMTTYPE=image/jpeg:https://memorialdaresistenciasp.org.br/wp-content/uploads/2024/09/Juquery_71_APESP_27-edited.jpg
END:VEVENT
BEGIN:VEVENT
DTSTART;TZID=America/Sao_Paulo:20241019T140000
DTEND;TZID=America/Sao_Paulo:20241019T160000
DTSTAMP:20260422T200029
CREATED:20240930T173315Z
LAST-MODIFIED:20241014T133814Z
UID:240693-1729346400-1729353600@memorialdaresistenciasp.org.br
SUMMARY:Sábado Resistente: “A violência policial e a impunidade ontem e hoje no Brasil” 
DESCRIPTION:Manifestação estudantil em Salvador\, Bahia\, 18 de maio de 1978. Créditos: Milton Mendes Filho/Jornal Movimento/Arquivo Público do Estado de São Paulo (APESP).\n\n\n\n\n\n\n\n\n 19 de outubro \n\n\n\n 14 horas \n\n\n\n  Atividade gratuita \n\n\n\n  Auditório (5º andar) \n\n\n\n\n\n\n\n\nNo próximo encontro do Sábado Resistente\, será debatida a perpetuação da violência de Estado\, que marcou o período da ditadura\, através da estrutura e atuação das forças policiais.   \n\n\n\nEm 2024\, ano que marca as seis décadas do golpe civil-militar de 1964\, a programação dos Sábados Resistentes tem como tema “A longa duração do Golpe de 1964”\, discutindo o impacto desse regime autoritário na contemporaneidade\, nos mais diferentes setores\, dentre eles na educação\, economia\, política\, cultura\, direitos humanos e sociedade civil.   \n\n\n\nOs Sábados Resistentes são realizados em parceria com o Núcleo de Preservação da Memória Política em formato híbrido\, e podem ser assistidos virtualmente através do nosso canal do Youtube.  \n\n\n\nA atividade é gratuita e não precisa de inscrição.  \n\n\n\nConvidados\n\n\n\nBenedito Mariano – Possui graduação em Sociologia pela Fundação Escola de Sociologia e Política de São Paulo e mestrado em Ciências Sociais pela Pontifícia Universidade Católica de São Paulo. Foi diretor secretário do Centro Santo Dias de Direitos Humanos da- Arquidiocese de São Paulo e primeiro Ouvidor das policias do Estado de São Paulo (1995- 2000). Membro do Conselho Nacional de Segurança Pública entre os anos de 2010-2012\, foi secretário de Segurança Urbana na capital nas gestões Marta Suplicy e Fernando Haddad\, e nas cidades de São Bernardo \, Osasco e Diadema. \n\n\n\nSolange Oliveira Antonio – Mãe de Victor Antonio Brabo e fundadora em 2016 do Movimento Social Mães em Luta da Zona Leste de SP. O Movimento é constituído por mães que buscam justiça por seus filhos assassinados pela Polícia Militar do Estado de São Paulo\, reivindicando a memória destes jovens como tentativa de dar nome e rosto às estatísticas.
URL:https://memorialdaresistenciasp.org.br/programacao/sabado-resistente-a-violencia-policial-e-a-impunidade-ontem-e-hoje-no-brasil/
ATTACH;FMTTYPE=image/jpeg:https://memorialdaresistenciasp.org.br/wp-content/uploads/2024/09/BR_SP_APESP_MOV_ICO_AMP_019_073-edited.jpg
END:VEVENT
BEGIN:VEVENT
DTSTART;TZID=America/Sao_Paulo:20241029T150000
DTEND;TZID=America/Sao_Paulo:20241030T150000
DTSTAMP:20260422T200029
CREATED:20240930T175208Z
LAST-MODIFIED:20241017T182428Z
UID:240697-1730214000-1730300400@memorialdaresistenciasp.org.br
SUMMARY:Educação em Direitos Humanos: introdução teórica e possibilidades práticas
DESCRIPTION:Visita mediada na exposição Memórias do Futuro com o Centro Social Nossa Senhora da Penha (CENHA)\n\n\n\n\n\n\n\n\n 29 e 30 de outubro \n\n\n\n 15 horas \n\n\n\n  Atividade gratuita \n\n\n\n Online \n\n\n\n\n\n\n\n\nO Programa de Ação Educativa do Memorial da Resistência de São Paulo\, museu da Secretaria da Cultura\, Economia e Indústria Criativas do Estado de São Paulo\, promove para profissionais de museus nos dias 29 e 30 de outubro\, das 15 às 17 horas\, o workshop Educação em Direitos Humanos: introdução teórica e possibilidades práticas. São seis horas de carga horária\, sendo quatro horas de aulas síncronas online e duas de atividades extraclasse.  \n\n\n\nA atividade contará com uma breve introdução teórica sobre Educação em Direitos Humanos\, e apresentará possibilidades práticas sobre o tema a partir das experiências desenvolvidas pelo Memorial da Resistência\, como publicações\, jogos e o Projeto Resisto! – série de vídeos educativos desenvolvidos pelo museu para o público infantojuvenil. O workshop visa refletir com os participantes a possiblidade de trabalho com o tema a partir dos acervos de suas instituições.  \n\n\n\nO curso é uma inciativa em parceria com o Sistema Estadual de Museus (SISEM-SP)\, da Unidade de Preservação do Patrimônio Museológico (UPPM)\, e faz parte do programa Conexões Museus SP\, que tem como objetivo formar profissionais\, valorizar o acervo e as experiências de museus.  \n\n\n\n\n\n\n\n\nINSCREVA-SE
URL:https://memorialdaresistenciasp.org.br/programacao/educacao-em-direitos-humanos-introducao-teorica-e-possibilidades-praticas/
ATTACH;FMTTYPE=image/jpeg:https://memorialdaresistenciasp.org.br/wp-content/uploads/2023/09/IMG_2748-scaled.jpg
END:VEVENT
END:VCALENDAR