
BEGIN:VCALENDAR
VERSION:2.0
PRODID:-//Memorial da Resistência - ECPv6.15.20//NONSGML v1.0//EN
CALSCALE:GREGORIAN
METHOD:PUBLISH
X-WR-CALNAME:Memorial da Resistência
X-ORIGINAL-URL:https://memorialdaresistenciasp.org.br
X-WR-CALDESC:Eventos para Memorial da Resistência
REFRESH-INTERVAL;VALUE=DURATION:PT1H
X-Robots-Tag:noindex
X-PUBLISHED-TTL:PT1H
BEGIN:VTIMEZONE
TZID:America/Sao_Paulo
BEGIN:STANDARD
TZOFFSETFROM:-0300
TZOFFSETTO:-0300
TZNAME:-03
DTSTART:20230101T000000
END:STANDARD
END:VTIMEZONE
BEGIN:VEVENT
DTSTART;TZID=America/Sao_Paulo:20241108T140000
DTEND;TZID=America/Sao_Paulo:20241108T170000
DTSTAMP:20260422T182837
CREATED:20241104T165144Z
LAST-MODIFIED:20241104T165215Z
UID:240770-1731074400-1731085200@memorialdaresistenciasp.org.br
SUMMARY:Ato em homenagem a Raphael Martinelli
DESCRIPTION: 08 de novembro \n\n\n\n 14 horas \n\n\n\n  Atividade gratuita \n\n\n\n Lugar de Encontro (3º andar) \n\n\n\n\n\n\n\n\nO Memorial da Resistência recebe uma homenagem a Raphael Martinelli\, que celebra 100 anos de seu nascimento. A atividade será promovida pelo Intercâmbio\, Informações\, Estudos e Pesquisas (IIEP) e pelo Instituto Astrojildo Pereira.  \n\n\n\nRafael Martinelli foi ferroviário e militante da Ação Libertadora Nacional (ALN) e do Partido Comunista Brasileiro (PCB)\, e foi perseguido por mais de duas décadas e preso duas vezes: em 1955 e em 1970. Foi membro do Fórum de Ex-Presos Políticos e Perseguidos do Estado de São Paulo\, organização que se mobilizou para a fundação do Memorial da Resistência.  \n\n\n\nA homenagem contará com a presença dos historiadores José Luiz Del Roio e Murilo Leal. A mediação será feita pelo defensor dos direitos humanos Adriano Diogo. 
URL:https://memorialdaresistenciasp.org.br/programacao/ato-em-homenagem-a-raphael-martinelli/
ATTACH;FMTTYPE=image/jpeg:https://memorialdaresistenciasp.org.br/wp-content/uploads/2024/11/image_processing20200218-17825-1wlyewu.jpg
END:VEVENT
BEGIN:VEVENT
DTSTART;TZID=America/Sao_Paulo:20241109T140000
DTEND;TZID=America/Sao_Paulo:20241109T170000
DTSTAMP:20260422T182837
CREATED:20241104T170010Z
LAST-MODIFIED:20241105T164719Z
UID:240774-1731160800-1731171600@memorialdaresistenciasp.org.br
SUMMARY:Sábado Resistente: "Quebrando o silêncio: construindo uma comunicação antirracista"
DESCRIPTION:Pequena oficina do jornal O Clarim D’Alvorada\, na residência de José Correia Leite\, São Paulo\, década de 1930.\n\nCréditos: Arquivo Público do Estado de São Paulo (APESP).\n\n\n\n\n\n\n\n\n\n 09 de novembro \n\n\n\n 14 horas \n\n\n\n  Atividade gratuita \n\n\n\n Lugar de Encontro (3º andar) \n\n\n\n\n\n\n\n\nO próximo Sábado Resistente analisa o papel da comunicação\, tanto dos grupos tradicionais quanto dos coletivos atuais\, que utilizam jornais e redes sociais para denunciar o racismo e fomentar mudanças de comportamento.  \n\n\n\nEm 2024\, ano que marca as seis décadas do Golpe Civil-Militar de 1964\, a programação dos Sábados Resistente tem como tema A longa duração do Golpe de 1964\, e discute o impacto desse regime autoritário na contemporaneidade.  \n\n\n\nO Sábado Resistente será realizado de forma híbrida (presencial e online)\, com transmissão ao vivo pelos canais do YouTube do Núcleo Memória (@nucleomemoria)\, do Memorial da Resistência (@memorialdaresistencia) e do Tutaméia (@tutameiaTV). \n\n\n\nA atividade é gratuita e não precisa de inscrição. \n\n\n\nConvidado\n\n\n\nAnderson Moraes: Jornalista\, fundador do Jornal Empoderado\, diretor do Centro de Estudos da Mídia Alternativa Barão de Itararé\, membro da COJIRA-SP (Comissão de Jornalistas pela Igualdade Racial de São Paulo) e da Frente Nacional Antirracista. É também âncora do programa “Domingo na Fórum”\, da revista Fórum\, e colaborador do Canal Meteoro Brasil. \n\n\n\nKyalene Mesquita: Comunicadora social\, engajada na política de drogas e no antiproibicionismo. \n\n\n\nAtuo como Especialista de Comunicação na Iniciativa Negra por Uma Nova Política de Drogas (INNPD) e da Plataforma Brasileira de Política de Drogas (PBPD)\, organizações não governamentais que lutam pelos direitos humanos e pelo fim das problemáticas causadas pelo proibicionismo no contexto brasileiro. \n\n\n\nApresentadora do podcast oficial do Cannabis Monitor Brasil\, canal de monitoramento das notícias relacionadas à maconha e à política de drogas no Brasil. \n\n\n\nMediação da mesa: \n\n\n\nLígia de Souza Cerqueira. Advogada criminalista. Pesquisadora assistente do Centro de Pesquisa Aplicada em Direito e Justiça Racial da Fundação Getúlio Vargas. Pesquisadora da Universidade Federal de São Paulo\, no projeto  “Pesquisa e Intervenção Multiprofissional a partir da escuta de mães e familiares de vítimas da violência do Estado no Brasil”. Pós-graduada em direitos humanos pela Universidade Católica Portuguesa. Graduada em direito pela Universidade Presbiteriana Mackenzie.  Associada à Frente Ampla Democrática pelos Direitos Humanos – FADDH e membro do Conselho do Núcleo Memória.
URL:https://memorialdaresistenciasp.org.br/programacao/sabado-resistente-quebrando-o-silencio-construindo-uma-comunicacao-antirracista/
ATTACH;FMTTYPE=image/jpeg:https://memorialdaresistenciasp.org.br/wp-content/uploads/2024/11/EIXO-3-8-Redacao-Clarim-da-Alvorada-copy.jpg
END:VEVENT
BEGIN:VEVENT
DTSTART;TZID=America/Sao_Paulo:20241123T150000
DTEND;TZID=America/Sao_Paulo:20241123T170000
DTSTAMP:20260422T182837
CREATED:20241104T172219Z
LAST-MODIFIED:20241104T172246Z
UID:240794-1732374000-1732381200@memorialdaresistenciasp.org.br
SUMMARY:Tarde de Memórias
DESCRIPTION:  23 de novembro \n\n\n\n  15 horas  \n\n\n\n  Atividade gratuita \n\n\n\n Espaço expositivo (térreo) \n\n\n\n\n\n\n\n\nAs Tardes de Memórias propõem\, a cada encontro\, jogos lúdico-pedagógicos aos visitantes\, mediados pela Ação Educativa do museu\, para explorar de forma lúdica e descontraída temas centrais do Memorial: Repressão\, Resistência\, Patrimônio e Direitos Humanos. \n\n\n\nA atividade é gratuita e não precisa de inscrição.
URL:https://memorialdaresistenciasp.org.br/programacao/tarde-de-memorias-13/
ATTACH;FMTTYPE=image/jpeg:https://memorialdaresistenciasp.org.br/wp-content/uploads/2022/10/20201217_LF_Pina_Memorial-da-Resistencia_educ-42-scaled.jpg
END:VEVENT
BEGIN:VEVENT
DTSTART;TZID=America/Sao_Paulo:20241126T140000
DTEND;TZID=America/Sao_Paulo:20241126T160000
DTSTAMP:20260422T182837
CREATED:20241104T172550Z
LAST-MODIFIED:20241114T135827Z
UID:240797-1732629600-1732636800@memorialdaresistenciasp.org.br
SUMMARY:Oficina Projeto Resisto!
DESCRIPTION: 26 de novembro \n\n\n\n 14 horas \n\n\n\n  Atividade gratuita \n\n\n\n Online \n\n\n\n\n\n\n\n\nA Oficina Projeto Resisto! apresenta o planejamento e a execução da série de vídeos Projeto Resisto!. \n\n\n\nAtravés dos vídeos em formato de telejornal\, a série apresenta para o público infantojuvenil temas como Repressão\, Resistência\, Patrimônio e Direitos Humanos\, de forma lúdica e educativa.  \n\n\n\nOs vídeos são acompanhados por materiais de apoio aos professores e roteiros de pesquisa no acervo do Memorial. A atividade propõe abordar as potencialidades destes materiais.  \n\n\n\nA atividade é virtual e gratuita.  \n\n\n\n\n\n\n\n\nINSCREVA-SE
URL:https://memorialdaresistenciasp.org.br/programacao/oficina-projeto-resisto-13/
ATTACH;FMTTYPE=image/jpeg:https://memorialdaresistenciasp.org.br/wp-content/uploads/2024/11/PROJETO-RESISTO-FRAME.jpg
END:VEVENT
BEGIN:VEVENT
DTSTART;TZID=America/Sao_Paulo:20241130T140000
DTEND;TZID=America/Sao_Paulo:20241130T170000
DTSTAMP:20260422T182837
CREATED:20241104T171049Z
LAST-MODIFIED:20241122T213324Z
UID:240783-1732975200-1732986000@memorialdaresistenciasp.org.br
SUMMARY:Ditadura e Literatura: Lançamento de livros com Amelinha Teles e Camilo Vannuchi  
DESCRIPTION: 30 de novembro \n\n\n\n 14 horas \n\n\n\n  Atividade gratuita \n\n\n\n Lugar de Encontro (3º andar) \n\n\n\n\n\n\n\n\nA jornalista\, escritora e ex-presa política Amelinha Teles\, e o jornalista Camilo Vannuchi\, lançam no Memorial da Resistência os livros Contos da Cela Três: Memórias de uma presa política na ditadura e Eu só disse meu nome.  \n\n\n\nEm Contos da Cela Três\, Lagartixa Linguaruda de Nascimento\, uma espécie de amiga imaginária de Amelinha\, não apenas sobe paredes e esgueira-se em frestas\, como também surge na condição de personagem de relatos impagáveis. O livro trata de temas complexos\, do autoritarismo à relação entre crianças e pais aprisionados\, da impotência diante dos algozes a preconceitos que continuam a assombrar o horizonte.  \n\n\n\nEm Eu só disse meu nome\, Camilo Vanucchi conta a história de Alexandre Vannucchi Leme\, seu primo de segundo grau. Alexandre tinha 22 anos e cursava o quarto ano de Geologia na USP quando foi torturado até a morte no DOI-Codi de São Paulo\, o mais temido órgão de repressão política da Ditadura. O livro combina memórias com relato jornalístico\, num enredo sobre a vida de Alexandre\, sua militância\, as circunstâncias de sua morte e o que veio depois.  \n\n\n\nO evento será seguido de uma roda de conversa com os escritores. \n\n\n\nA atividade é gratuita e não precisa de inscrição. 
URL:https://memorialdaresistenciasp.org.br/programacao/ditadura-e-literatura-lancamento-de-livros-com-amelinha-teles-e-camilo-vanucchi/
ATTACH;FMTTYPE=image/jpeg:https://memorialdaresistenciasp.org.br/wp-content/uploads/2024/11/Sem-Titulo-1.jpg
END:VEVENT
END:VCALENDAR