
BEGIN:VCALENDAR
VERSION:2.0
PRODID:-//Memorial da Resistência - ECPv6.15.20//NONSGML v1.0//EN
CALSCALE:GREGORIAN
METHOD:PUBLISH
X-ORIGINAL-URL:https://memorialdaresistenciasp.org.br
X-WR-CALDESC:Eventos para Memorial da Resistência
REFRESH-INTERVAL;VALUE=DURATION:PT1H
X-Robots-Tag:noindex
X-PUBLISHED-TTL:PT1H
BEGIN:VTIMEZONE
TZID:America/Sao_Paulo
BEGIN:STANDARD
TZOFFSETFROM:-0300
TZOFFSETTO:-0300
TZNAME:-03
DTSTART:20230101T000000
END:STANDARD
END:VTIMEZONE
BEGIN:VEVENT
DTSTART;TZID=America/Sao_Paulo:20241207T140000
DTEND;TZID=America/Sao_Paulo:20241207T160000
DTSTAMP:20260422T170108
CREATED:20241128T181807Z
LAST-MODIFIED:20241128T181809Z
UID:240880-1733580000-1733587200@memorialdaresistenciasp.org.br
SUMMARY:Visita mediada com o curador Diego Matos à exposição "Uma Vertigem Visionária — Brasil: Nunca Mais" 
DESCRIPTION:UMA VERTIGEM VISIONÁRIA — BRASIL: NUNCA MAIS © Levi Fanan / Memorial da Resistência\n\n\n\n\n\n\n\n\n 7 de dezembro \n\n\n\n 14 horas \n\n\n\n  Atividade gratuita \n\n\n\n Espaço expositivo (3º andar) \n\n\n\n\n\n\n\n\nNa Semana Internacional dos Direitos Humanos\, o Memorial da Resistência promove uma visita mediada pelo curador Diego Matos à exposição Uma Vertigem Visionária — Brasil: Nunca Mais.  \n\n\n\nA mostra resgata a memória do projeto Brasil: Nunca Mais\, empreendida entre 1979 e 1985. A iniciativa foi responsável por sistematizar e produzir cópias\, clandestinamente\, de mais de 1 milhão de páginas contidas em 707 processos do Superior Tribunal Militar (STM)\, revelando a extensão da repressão política do Brasil no período. \n\n\n\n\n\n\n\n\nINSCREVA-SE
URL:https://memorialdaresistenciasp.org.br/programacao/visita-uma-vertigem-visionaria-brasil-nunca-mais/
ATTACH;FMTTYPE=image/jpeg:https://memorialdaresistenciasp.org.br/wp-content/uploads/2024/08/20240907_LF_Memorial_Aberturas-das-exposições_ESMA_BNM-_10-scaled.jpg
END:VEVENT
BEGIN:VEVENT
DTSTART;TZID=America/Sao_Paulo:20241209T000000
DTEND;TZID=America/Sao_Paulo:20241209T235959
DTSTAMP:20260422T170108
CREATED:20241126T195917Z
LAST-MODIFIED:20241127T204030Z
UID:240857-1733702400-1733788799@memorialdaresistenciasp.org.br
SUMMARY:3º Encontro da Rede Brasileira de Lugares de Memória (REBRALUM)
DESCRIPTION:
URL:https://memorialdaresistenciasp.org.br/programacao/3o-encontro-da-rede-brasileira-de-lugares-de-memoria-rebralum/
ATTACH;FMTTYPE=image/jpeg:https://memorialdaresistenciasp.org.br/wp-content/uploads/2024/11/20201217_LF_Pina_Memorial-da-Resistencia-celas-30-scaled-1.jpg
END:VEVENT
BEGIN:VEVENT
DTSTART;TZID=America/Sao_Paulo:20241209T100000
DTEND;TZID=America/Sao_Paulo:20241209T120000
DTSTAMP:20260422T170108
CREATED:20241129T175903Z
LAST-MODIFIED:20241129T175904Z
UID:240885-1733738400-1733745600@memorialdaresistenciasp.org.br
SUMMARY:Visita educativa "Conhecendo Nosso Lugar de Memória"
DESCRIPTION:Largo General Osório em 1915 após a construção do monumental prédio da Estrada de Ferro Sorocabana\, onde alguns anos depois viria a se instalar o Deops/SP. Crédito: Sebastião de Assis Ferreira. Acervo Fotográfico do Museu da Cidade de São Paulo.\n\n\n\n\n\n\n\n\n 9 de dezembro \n\n\n\n 10 horas \n\n\n\n  Atividade gratuita \n\n\n\n Térreo \n\n\n\n\n\n\n\n\nA Ação Educativa do Memorial da Resistência apresenta um novo roteiro de visita educativa\, que percorre diversos andares do prédio que atualmente abriga o Memorial da Resistência\, e foi sede do Departamento Estadual de Ordem Política e Social (Deops/SP) no período de 1940 a 1983. \n\n\n\nA mediação do novo percurso vai refletir sobre o processo histórico de ocupação do edifício\, a estrutura repressiva nele instalada e a sua descaracterização e apagamentos de evidências e memórias que pudessem dar a dimensão das arbitrariedades cometidas pela polícia política durante o Estado Novo e a Ditadura Civil-Militar. \n\n\n\nEsta visita faz parte da Campanha Sonhar o Mundo\, promovido pelo Sistema Estadual de Museus (SISEM-SP)\, programação que promove ações nos museus de São Paulo em defesa dos Direitos Humanos\, contra todos os tipos de preconceito e a favor da igualdade. \n\n\n\n\n\n\n\n\nINSCREVA-SE
URL:https://memorialdaresistenciasp.org.br/programacao/visita-educativa-conhecendo-nosso-lugar-de-memoria/
ATTACH;FMTTYPE=image/jpeg:https://memorialdaresistenciasp.org.br/wp-content/uploads/tainacan-items/1041/14577/M.CIDADE_01.jpg
END:VEVENT
END:VCALENDAR