
BEGIN:VCALENDAR
VERSION:2.0
PRODID:-//Memorial da Resistência - ECPv6.15.20//NONSGML v1.0//EN
CALSCALE:GREGORIAN
METHOD:PUBLISH
X-WR-CALNAME:Memorial da Resistência
X-ORIGINAL-URL:https://memorialdaresistenciasp.org.br
X-WR-CALDESC:Eventos para Memorial da Resistência
REFRESH-INTERVAL;VALUE=DURATION:PT1H
X-Robots-Tag:noindex
X-PUBLISHED-TTL:PT1H
BEGIN:VTIMEZONE
TZID:America/Sao_Paulo
BEGIN:STANDARD
TZOFFSETFROM:-0300
TZOFFSETTO:-0300
TZNAME:-03
DTSTART:20240101T000000
END:STANDARD
END:VTIMEZONE
BEGIN:VEVENT
DTSTART;TZID=America/Sao_Paulo:20250201T100000
DTEND;TZID=America/Sao_Paulo:20250201T123000
DTSTAMP:20260422T140930
CREATED:20250121T192257Z
LAST-MODIFIED:20250121T192807Z
UID:242748-1738404000-1738413000@memorialdaresistenciasp.org.br
SUMMARY:Memorial da Resistência recebe Urban Sketchers São Paulo
DESCRIPTION:Largo General Osório em 2023\, Memorial da resistência\, prédio que sediou o antigo Deops/SP\, durante a ditadura civil-militar. Crédito: João Leoci. Acervo Fotográfico do Memorial da Resistência de São Paulo.\n\n\n\n\n\n\n\n\n 01 de fevereiro \n\n\n\n 10 horas \n\n\n\n  Atividade gratuita \n\n\n\n Estacionamento \n\n\n\n\n\n\n\n\nO Memorial da Resistência recebe o Urban Sketchers São Paulo para uma tarde de desenhos ao ar livre. Aberto ao público\, o encontro propõe a realização de desenhos de observação do edifício que abriga o museu\, apoiando a missão do coletivo em divulgar\, valorizar e promover os valores artísticos\, descritivos e educacionais da arte de urban sketching.
URL:https://memorialdaresistenciasp.org.br/programacao/memorial-da-resistencia-recebe-urban-sketchers-sao-paulo/
ATTACH;FMTTYPE=image/png:https://memorialdaresistenciasp.org.br/wp-content/uploads/2025/01/Design-sem-nome-1.png
END:VEVENT
BEGIN:VEVENT
DTSTART;TZID=America/Sao_Paulo:20250214T150000
DTEND;TZID=America/Sao_Paulo:20250214T173000
DTSTAMP:20260422T140930
CREATED:20250204T191237Z
LAST-MODIFIED:20250206T161953Z
UID:242801-1739545200-1739554200@memorialdaresistenciasp.org.br
SUMMARY:Educação em museus: temas sensíveis para públicos diversos
DESCRIPTION:Visita mediada pelo educativo durante encerramento da exposição Memórias do Futuro: Cidadania Negra\, Antirracismo e Resistência\n\n\n\n\n\n\n\n\n 14 de fevereiro \n\n\n\n 15 horas \n\n\n\n  Atividade gratuita \n\n\n\n Museu da Diversidade Sexual \n\n\n\n\n\n\n\n\nO Memorial da Resistência promove em conjunto com o Museu da Diversidade Sexual (MDS) a atividade Educação em museus: temas sensíveis para públicos diversos\, uma mesa de debate seguida por uma visita técnica ao MDS. \n\n\n\nA atividade faz parte do EPM+\, do 13º Encontro Paulista de Museus. Entre os dias 12 e 14 de fevereiro o Sistema Estadual de Museus (SISEM) promove a apresentação e debate da Política Estadual de Museus de São Paulo (PEM-SP). O encontro acontecerá no Theatro São Pedro\, e terá como o tema Construindo futuros. \n\n\n\nNas tardes dos dias 13 e 14 de fevereiro\, a programação inclui visitas técnicas ou atividades formativas\, que poderão ser escolhidas pelos participantes no momento da inscrição. \n\n\n\n\n\n\n\n\nInscreva-se
URL:https://memorialdaresistenciasp.org.br/programacao/educacao-em-museus-temas-sensiveis-para-publicos-diversos/
ATTACH;FMTTYPE=image/jpeg:https://memorialdaresistenciasp.org.br/wp-content/uploads/2022/05/20230826_LF_Pina_Memorial_Visita-20.jpg
END:VEVENT
END:VCALENDAR