
BEGIN:VCALENDAR
VERSION:2.0
PRODID:-//Memorial da Resistência - ECPv6.15.20//NONSGML v1.0//EN
CALSCALE:GREGORIAN
METHOD:PUBLISH
X-ORIGINAL-URL:https://memorialdaresistenciasp.org.br
X-WR-CALDESC:Eventos para Memorial da Resistência
REFRESH-INTERVAL;VALUE=DURATION:PT1H
X-Robots-Tag:noindex
X-PUBLISHED-TTL:PT1H
BEGIN:VTIMEZONE
TZID:America/Sao_Paulo
BEGIN:STANDARD
TZOFFSETFROM:-0300
TZOFFSETTO:-0300
TZNAME:-03
DTSTART:20240101T000000
END:STANDARD
END:VTIMEZONE
BEGIN:VEVENT
DTSTART;TZID=America/Sao_Paulo:20250607T150000
DTEND;TZID=America/Sao_Paulo:20250607T160000
DTSTAMP:20260422T083146
CREATED:20250602T195649Z
LAST-MODIFIED:20250602T195651Z
UID:244740-1749308400-1749312000@memorialdaresistenciasp.org.br
SUMMARY:Tarde de Memórias
DESCRIPTION:Uma Vertigem Visionária — Brasil: Nunca Mais\n\n\n\n\n\n\n\n\n 7 de junho \n\n\n\n 15 horas \n\n\n\n  Atividade gratuita \n\n\n\n Lugar de Encontro (3º andar) \n\n\n\n\n\n\n\n\nPensando em trabalhar os temas apresentados na exposição Uma Vertigem Visionária — Brasil: Nunca Mais\, será realizada uma oficina de colagem a partir de obras produzidas durante os anos 1960\, presentes na exposição.  \n\n\n\nO objetivo da oficina é que os visitantes possam refletir sobre o uso da arte como veículo de expressão e resistência política. \n\n\n\nA atividade não precisa de inscrição.
URL:https://memorialdaresistenciasp.org.br/programacao/tarde-de-memorias-16/
ATTACH;FMTTYPE=image/jpeg:https://memorialdaresistenciasp.org.br/wp-content/uploads/2025/06/Memorial_56_OUT2024_IM.jpg
END:VEVENT
BEGIN:VEVENT
DTSTART;TZID=America/Sao_Paulo:20250614T100000
DTEND;TZID=America/Sao_Paulo:20250614T113000
DTSTAMP:20260422T083146
CREATED:20250602T200322Z
LAST-MODIFIED:20250604T190053Z
UID:244743-1749895200-1749900600@memorialdaresistenciasp.org.br
SUMMARY:Visita educativa - Conhecendo Nosso Lugar de Memória 
DESCRIPTION: 14 de junho \n\n\n\n 10 horas \n\n\n\n  Atividade gratuita \n\n\n\n Ponto de encontro: térreo \n\n\n\n\n\n\n\n\nA Ação Educativa do Memorial da Resistência de São Paulo propõe um novo roteiro de visita educativa que percorre diversos andares do prédio que atualmente abriga o Memorial da Resistência\, e que foi sede do Departamento Estadual de Ordem Política e Social (Deops/SP) no período de 1940 a 1983. \n\n\n\nA mediação do novo percurso objetiva refletir sobre o processo histórico de ocupação do edifício\, a dimensão da estrutura repressiva nele instalada e a sua descaracterização e subsequentes apagamentos de evidências e memórias que pudessem dar a dimensão das arbitrariedades cometidas pela polícia política durante o Estado Novo e a Ditadura Civil-Militar. \n\n\n\n\n\n\n\n\nInscreva-se
URL:https://memorialdaresistenciasp.org.br/programacao/visita-educativa-conhecendo-nosso-lugar-de-memoria-3/
ATTACH;FMTTYPE=image/jpeg:https://memorialdaresistenciasp.org.br/wp-content/uploads/2025/05/Foto-1_Fachada-Memorial.jpg
END:VEVENT
BEGIN:VEVENT
DTSTART;TZID=America/Sao_Paulo:20250614T140000
DTEND;TZID=America/Sao_Paulo:20250614T160000
DTSTAMP:20260422T083146
CREATED:20250610T190952Z
LAST-MODIFIED:20250611T163240Z
UID:245304-1749909600-1749916800@memorialdaresistenciasp.org.br
SUMMARY:Sábado Resistente – Racismo estrutural e memória: da escravidão às violações atuais
DESCRIPTION:Ato público organizado pelo Movimento Negro Unificado contra o racismo nas escadarias do Teatro Municipal\, em São Paulo\, em 07 de julho de 1978. Créditos: Arquivo Público do Estado de São Paulo (APESP).\n\n\n\n\n\n\n\n\n 14 de junho \n\n\n\n 14 horas \n\n\n\n  Atividade gratuita \n\n\n\n Auditório (5º andar) \n\n\n\n\n\n\n\n\nA próxima edição do Sábado Resistente parte da compreensão de que os lugares de memória do povo negro permanecem como territórios vivos de resistência e elaboração. Ao reunir experiências que atravessam o campo da política\, da cultura e da memória\, o encontro propõe uma reflexão sobre como a constituição desses lugares impulsiona a luta antirracista e\, ao mesmo tempo\, como o desenvolvimento dessa luta contribui para o reconhecimento e a formação de novos espaços de memória. \n\n\n\nPara debater sobre o assunto\, contaremos com a presença de Rose Almeida\, do Movimento Mobiliza Saracura Vai Vai; Lucas Almeida\, do Museu dos Aflitos e UNAMCA e Patrícia Oliveira\, pesquisadora de lugares de memória. \n\n\n\nRealizada em parceria com o Núcleo Memória\, a programação dos Sábados Resistentes em 2025 tem como tema central “Brasil que Resiste: Lugares de Memória e Lutas por Justiça”\, destacando a importância dos lugares de memória como espaços de preservação da história e de mobilização social. \n\n\n\nA atividade não precisa de inscrição.  \n\n\n\nConvidados\n\n\n\nRose Almeida: Bacharel em Ciências Sociais pela Universidade de São Paulo\, moradora do Bixiga\, atua no Movimento Mobiliza Saracura Vai Vai desde seu início e organiza o Bloco do Fuá (carnaval de rua – Bixiga). \n\n\n\nLucas Almeida: Técnico em Museologia\, educador museal e pesquisador. Atualmente\, é Coordenador-Geral da Associação Museu dos Aflitos e Diretor da UNAMCA (União dos Amigos da Capela dos Aflitos). Também é sócio do Instituto Tebas de Educação e Cultura e Conselheiro Fiscal do Instituto do Direito do Patrimônio Cultural (IDPC). Suas pesquisas têm como foco os direitos humanos fundamentais à memória e à verdade sobre a escravidão e o tráfico transatlântico de pessoas escravizadas no Brasil\, além de estudos em museologia social e educação museal. \n\n\n\nPatrícia Oliveira: Mestre em Ciências Humanas e Sociais pela UFABC\, Bacharel em Biblioteconomia pela USP\, Licenciada em História pela UNICSUL\, alumni Alexander von Humboldt Stiftung com o tema Lugares de Memória.
URL:https://memorialdaresistenciasp.org.br/programacao/sabado-resistente-racismo-estrutural-e-memoria-da-escravidao-as-violacoes-atuais/
ATTACH;FMTTYPE=image/jpeg:https://memorialdaresistenciasp.org.br/wp-content/uploads/2024/11/EIXO-6-137-Nucleo-MNU.jpg
END:VEVENT
BEGIN:VEVENT
DTSTART;TZID=America/Sao_Paulo:20250620T100000
DTEND;TZID=America/Sao_Paulo:20250621T150000
DTSTAMP:20260422T083146
CREATED:20250603T211616Z
LAST-MODIFIED:20250619T133243Z
UID:244751-1750413600-1750518000@memorialdaresistenciasp.org.br
SUMMARY:Visita educativa - Arquivos LGBT+: resistência e repressão na ditadura
DESCRIPTION:Créditos: Arquivo Público do Estado de São Paulo (APESP)\n\n\n\n\n\n\n\n\n 15\, 20 e 21 de junho \n\n\n\n 10 e 15 horas \n\n\n\n  Atividade gratuita \n\n\n\n Ponto de encontro: térreo \n\n\n\n\n\n\n\n\nNo Mês do Orgulho LGBT+\, o Memorial da Resistência realiza uma série visitas educativas em parceria com a Parada SP\, sobre o tema do ano da 29ª Parada do Orgulho LGBT+ de São Paulo: Envelhecer LGBT+ Memória\, Resistência e Futuro… \n\n\n\nNas visitas mediadas\, serão abordadas as memórias de resistência e repressão políticas da comunidade LGBT+ no período da Ditadura Civil-Militar.  \n\n\n\nO roteiro inclui a exposição de longa duração do museu e o recém-inaugurado Centro de Pesquisa e Referência do Memorial\, que reabre com o percurso curatorial Arquivos LGBT+: resistência e repressão na ditadura​.  \n\n\n\nAs visitas ocorrerão nos dias 15 de junho\, às 10h e 15h; 20 de junho\, às 15h; e 21 de junho\, às 10h e 15h.  \n\n\n\n\n\n\n\n\nInscreva-se
URL:https://memorialdaresistenciasp.org.br/programacao/visita-educativa-arquivos-lgbt-resistencia-e-repressao-na-ditadura/
ATTACH;FMTTYPE=image/png:https://memorialdaresistenciasp.org.br/wp-content/uploads/2025/06/Abertura-Centro-de-Referencia-1.png
END:VEVENT
BEGIN:VEVENT
DTSTART;TZID=America/Sao_Paulo:20250625T150000
DTEND;TZID=America/Sao_Paulo:20250625T163000
DTSTAMP:20260422T083146
CREATED:20250602T200439Z
LAST-MODIFIED:20250604T190141Z
UID:244745-1750863600-1750869000@memorialdaresistenciasp.org.br
SUMMARY:Visita educativa - Conhecendo Nosso Lugar de Memória 
DESCRIPTION: 25 de junho \n\n\n\n 15 horas \n\n\n\n  Atividade gratuita \n\n\n\n Ponto de encontro: térreo \n\n\n\n\n\n\n\n\nA Ação Educativa do Memorial da Resistência de São Paulo propõe um novo roteiro de visita educativa que percorre diversos andares do prédio que atualmente abriga o Memorial da Resistência\, e que foi sede do Departamento Estadual de Ordem Política e Social (Deops/SP) no período de 1940 a 1983. \n\n\n\nA mediação do novo percurso objetiva refletir sobre o processo histórico de ocupação do edifício\, a dimensão da estrutura repressiva nele instalada e a sua descaracterização e subsequentes apagamentos de evidências e memórias que pudessem dar a dimensão das arbitrariedades cometidas pela polícia política durante o Estado Novo e a Ditadura Civil-Militar. \n\n\n\n\n\n\n\n\nInscreva-se
URL:https://memorialdaresistenciasp.org.br/programacao/visita-educativa-conhecendo-nosso-lugar-de-memoria-4/
ATTACH;FMTTYPE=image/jpeg:https://memorialdaresistenciasp.org.br/wp-content/uploads/2025/05/Foto-1_Fachada-Memorial.jpg
END:VEVENT
END:VCALENDAR